BEGIN:VCALENDAR
VERSION:2.0
PRODID:-//ChamberMaster//Event Calendar 2.0//EN
METHOD:PUBLISH
X-PUBLISHED-TTL:P3D
REFRESH-INTERVAL:P3D
CALSCALE:GREGORIAN
BEGIN:VEVENT
DTSTART:20140227T223000Z
DTEND:20140227T223000Z
X-MICROSOFT-CDO-ALLDAYEVENT:FALSE
SUMMARY:Forest Oaks Elementary School Ribbon Cutting
DESCRIPTION:Come Celebrate the opening of the new Elementary school in Chelsea. The Forest Oaks Show Choir will be performing and students will be delivering speeches about why they love Forest Oaks! Chelsea's Mayor Niven and Principal Dr. Resia Brooks will be speaking as well.
X-ALT-DESC;FMTTYPE=text/html:Come Celebrate the opening of the new Elementary school in Chelsea. The Forest Oaks Show Choir will be performing and students will be delivering speeches about why they love Forest Oaks! Chelsea&#39\;s Mayor Niven and Principal Dr. Resia Brooks will be speaking as well.&nbsp\; 
LOCATION:Forest Oaks is located at: 1000 Hornet Parkway Chelsea
UID:e.145.5040
SEQUENCE:3
DTSTAMP:20260423T212957Z
URL:https://business.shelbychamber.org/events/details/forest-oaks-elementary-school-ribbon-cutting-02-27-2014-5040
END:VEVENT

END:VCALENDAR
