BEGIN:VCALENDAR
VERSION:2.0
PRODID:-//ChamberMaster//Event Calendar 2.0//EN
METHOD:PUBLISH
X-PUBLISHED-TTL:P3D
REFRESH-INTERVAL:P3D
CALSCALE:GREGORIAN
BEGIN:VEVENT
DTSTART;VALUE=DATE:20120424
DTEND;VALUE=DATE:20120430
TRANSP:TRANSPARENT
X-MICROSOFT-CDO-ALLDAYEVENT:TRUE
SUMMARY:Free $25.00 Restaurant.com gift card and a great t-shirt!
DESCRIPTION:The American Red Cross has opened a beautiful new donor center near Valleydale and Caldwell Mill Road. It is 700 Caldwell Trace. It is near Head over Heels Gymnastics. Turn past Bruster's Ice Cream. We need the support of our new community to keep a steady supply of blood and platelet donations. During this week we are giving free $25.00 Restaurant.com gift cards and a great t-shirt that is in memory of the April storms. You can call our local number 994-7725 for directions or questions. To schedule an appointment go to redcrossblood.org or call 1-800-Red-Cross (1-800-733-2767) or call the local number if you prefer. One blood donation saves 3 lives. Bring a buddy and save 6. Platelet donations save even more lives. Please call or email for additional information. denita.young@redcross.org  cell 577-3477\n\n	We appreciate your support of our life saving mission.
X-ALT-DESC;FMTTYPE=text/html:<p>\n	The American Red Cross has opened a beautiful new donor center near Valleydale and Caldwell Mill Road. It is 700 Caldwell Trace. It is near Head over Heels Gymnastics. Turn past Bruster&#39\;s Ice Cream. We need the support of our new community to keep a steady supply of blood and platelet donations. During this week we are giving free $25.00 Restaurant.com gift cards and a great t-shirt that is in memory of the April storms. You can call our local number 994-7725 for directions or questions. To schedule an appointment go to redcrossblood.org or call 1-800-Red-Cross (1-800-733-2767) or call the local number if you prefer. One blood donation saves 3 lives. Bring a buddy and save 6. Platelet donations save even more lives. Please call or email for additional information. <a href="mailto:denita.young@redcross.org">denita.young@redcross.org</a>&nbsp\; cell 577-3477<br />\n	We appreciate your support of our life saving mission.</p>\n
LOCATION:700 Caldwell Trace Birmingham 35242
UID:e.145.4009
SEQUENCE:3
DTSTAMP:20260425T102239Z
URL:https://business.shelbychamber.org/events/details/free-25-00-restaurant-com-gift-card-and-a-great-t-shirt-04-24-2012-4009
END:VEVENT

END:VCALENDAR
