BEGIN:VCALENDAR
VERSION:2.0
PRODID:-//ChamberMaster//Event Calendar 2.0//EN
METHOD:PUBLISH
X-PUBLISHED-TTL:P3D
REFRESH-INTERVAL:P3D
CALSCALE:GREGORIAN
BEGIN:VEVENT
DTSTART:20161025T150000Z
DTEND:20161025T180000Z
X-MICROSOFT-CDO-ALLDAYEVENT:FALSE
SUMMARY:Free CEU Movie Event
DESCRIPTION:Middle of Alabama Area Agency on Aging (M4A)\, AARP\, and Alabama Securities Commission is hosting a free Movie Event entitled "When I'm 65". The movie is a 57-minute documentary for all ages about investments\, retirement\, and how to recognize\, avoid\, and report financial scams. CEUs are offered for Nursing Home Administrators\, Assisted Living Administrators\, Nursing\, Social Workers\, Legal\, and Law Enforcement. Free lunch is also provided.\n\n\n\nRegister by contacting M4A at sechols@m4a.org or 205-670-5770.
X-ALT-DESC;FMTTYPE=text/html:Middle of Alabama Area Agency on Aging (M4A)\, AARP\, and Alabama Securities Commission is hosting a free Movie Event entitled &quot\;When I&#39\;m 65&quot\;. The movie is a 57-minute documentary for all ages about investments\, retirement\, and how to recognize\, avoid\, and report financial scams. CEUs are offered for Nursing Home Administrators\, Assisted Living Administrators\, Nursing\, Social Workers\, Legal\, and Law Enforcement. Free lunch is also provided.<br />\n<br />\nRegister by contacting M4A at <a href="mailto:sechols@m4a.org">sechols@m4a.org</a> or 205-670-5770.
LOCATION:United Methodist Church of Columbiana 200 North Main Street Columbiana
UID:e.145.9763
SEQUENCE:3
DTSTAMP:20260421T164629Z
URL:https://business.shelbychamber.org/events/details/free-ceu-movie-event-9763
END:VEVENT

END:VCALENDAR
