BEGIN:VCALENDAR
VERSION:2.0
PRODID:-//ChamberMaster//Event Calendar 2.0//EN
METHOD:PUBLISH
X-PUBLISHED-TTL:P3D
REFRESH-INTERVAL:P3D
CALSCALE:GREGORIAN
BEGIN:VEVENT
DTSTART:20120303T190000Z
DTEND:20120330T190000Z
X-MICROSOFT-CDO-ALLDAYEVENT:FALSE
SUMMARY:Free E-Verify and I-9 Webinars
DESCRIPTION:Are you ready to learn more about E-Verify? Do you have questions about Form I-9? The U.S. Department of Homeland Security offers free live webinars on E-Verify and Form I-9. Go to http://go.usa.gov/m3r to attend. Pre-registration is not required.\n\n\n\n\n\n	Learn more about the E-Verify program at www.dhs.gov/E-Verify \n\n	Learn more about Form I-9 at http://www.uscis.gov/I-9Central
X-ALT-DESC;FMTTYPE=text/html:<span lang="EN" style="font-size: 11pt\; line-height: 115%\; font-family: 'calibri'\,'sans-serif'\; mso-ascii-theme-font: minor-latin\; mso-fareast-font-family: calibri\; mso-fareast-theme-font: minor-latin\; mso-hansi-theme-font: minor-latin\; mso-bidi-theme-font: minor-latin\; mso-ansi-language: en\; mso-fareast-language: en-us\; mso-bidi-language: ar-sa"><font color="#000000">Are you ready to learn more about E-Verify? Do you have questions about Form I-9? The U.S. Department&nbsp\;of Homeland Security offers free&nbsp\;live webinars on&nbsp\;E-Verify and&nbsp\;Form I-9. Go to&nbsp\;</font></span><span style="font-size: 11pt\; line-height: 115%\; font-family: 'calibri'\,'sans-serif'\; mso-ascii-theme-font: minor-latin\; mso-fareast-font-family: calibri\; mso-fareast-theme-font: minor-latin\; mso-hansi-theme-font: minor-latin\; mso-bidi-theme-font: minor-latin\; mso-ansi-language: en-us\; mso-fareast-language: en-us\; mso-bidi-language: ar-sa"><a href="http://go.usa.gov/m3r">http://go.usa.gov/m3r</a></span><span lang="EN" style="font-size: 11pt\; line-height: 115%\; font-family: 'calibri'\,'sans-serif'\; mso-ascii-theme-font: minor-latin\; mso-fareast-font-family: calibri\; mso-fareast-theme-font: minor-latin\; mso-hansi-theme-font: minor-latin\; mso-bidi-theme-font: minor-latin\; mso-ansi-language: en\; mso-fareast-language: en-us\; mso-bidi-language: ar-sa"><font color="#000000"> to attend. Pre-registration is not required.<br />\n<br />\n</font></span>\n<p class="MsoNormal" style="margin: 0in 0in 10pt">\n	<span lang="EN" style="font-size: 11pt\; line-height: 115%\; font-family: 'calibri'\,'sans-serif'\; mso-ascii-theme-font: minor-latin\; mso-fareast-font-family: calibri\; mso-fareast-theme-font: minor-latin\; mso-hansi-theme-font: minor-latin\; mso-bidi-theme-font: minor-latin\; mso-ansi-language: en\; mso-fareast-language: en-us\; mso-bidi-language: ar-sa"><font color="#000000"><span lang="EN" style="mso-bidi-theme-font: minor-latin\; mso-ansi-language: en\; mso-bidi-font-family: calibri">Learn more about the E-Verify program at </span><span style="mso-bidi-theme-font: minor-latin\; mso-bidi-font-family: calibri"><a href="file:///C:/Documents%20and%20Settings/ckdavis/My%20Documents/CoC/www.dhs.gov/E-Verify">www.dhs.gov/E-Verify</a>&nbsp\;</span><span lang="EN" style="mso-bidi-theme-font: minor-latin\; mso-ansi-language: en\; mso-bidi-font-family: calibri"><o:p></o:p></span></font></span></p>\n<p class="MsoNormal" style="margin: 0in 0in 10pt">\n	<span lang="EN" style="font-size: 11pt\; line-height: 115%\; font-family: 'calibri'\,'sans-serif'\; mso-ascii-theme-font: minor-latin\; mso-fareast-font-family: calibri\; mso-fareast-theme-font: minor-latin\; mso-hansi-theme-font: minor-latin\; mso-bidi-theme-font: minor-latin\; mso-ansi-language: en\; mso-fareast-language: en-us\; mso-bidi-language: ar-sa"><font color="#000000"><span lang="EN" style="mso-bidi-theme-font: minor-latin\; mso-ansi-language: en\; mso-bidi-font-family: calibri">Learn more about Form I-9 at </span><a href="http://www.uscis.gov/I-9Central"><span lang="EN" style="mso-bidi-theme-font: minor-latin\; mso-ansi-language: en\; mso-bidi-font-family: calibri"><font color="#800080">http://www.uscis.gov/I-9Central</font></span></a><span lang="EN" style="mso-bidi-theme-font: minor-latin\; mso-ansi-language: en\; mso-bidi-font-family: calibri"><o:p></o:p></span></font></span></p>\n
LOCATION:Your Computer
UID:e.145.3990
SEQUENCE:3
DTSTAMP:20260425T101737Z
URL:https://business.shelbychamber.org/events/details/free-e-verify-and-i-9-webinars-03-03-2012-3990
END:VEVENT

END:VCALENDAR
