BEGIN:VCALENDAR
VERSION:2.0
PRODID:-//ChamberMaster//Event Calendar 2.0//EN
METHOD:PUBLISH
X-PUBLISHED-TTL:P3D
REFRESH-INTERVAL:P3D
CALSCALE:GREGORIAN
BEGIN:VEVENT
DTSTART:20130301T190000Z
DTEND:20130301T200000Z
X-MICROSOFT-CDO-ALLDAYEVENT:FALSE
SUMMARY:Free Laser Cataract Surgery Seminar
DESCRIPTION:Free Seminar on Laser Cataract Surgery at VisionFirst Eye Center Alabaster location on Friday\, March 1st 1-2pm.  300 First Street North in Alabaster. VisionFirst Eye Center is the first and only to bring Laser Cataract Surgery to Alabama. The seminar is presented by Dr. Mark Bearman and Dr. Sarah Hays. They will answer questions about cataracts\, the new blade-free laser cataract surgery\, and much more. RSVP to 949.2020. Refreshments will be provided.  www.visionfirsteyecenter.com
X-ALT-DESC;FMTTYPE=text/html:Free Seminar on Laser Cataract Surgery at VisionFirst Eye Center Alabaster location on Friday\, March 1st 1-2pm. &nbsp\;300 First Street North in Alabaster. VisionFirst Eye Center is the first and only to bring Laser Cataract Surgery to Alabama. The seminar is presented by Dr. Mark Bearman and Dr. Sarah Hays. They will answer questions about cataracts\, the new blade-free laser cataract surgery\, and much more. RSVP to 949.2020. Refreshments will be provided. &nbsp\;www.visionfirsteyecenter.com
LOCATION:VisionFirst Eye Center in Alabaster. 300 First Street North Alabaster\, Alabama 35008
UID:e.145.4529
SEQUENCE:3
DTSTAMP:20260424T153441Z
URL:https://business.shelbychamber.org/events/details/free-laser-cataract-surgery-seminar-03-01-2013-4529
END:VEVENT

END:VCALENDAR
