BEGIN:VCALENDAR
VERSION:2.0
PRODID:-//ChamberMaster//Event Calendar 2.0//EN
METHOD:PUBLISH
X-PUBLISHED-TTL:P3D
REFRESH-INTERVAL:P3D
CALSCALE:GREGORIAN
BEGIN:VEVENT
DTSTART:20130322T190000Z
DTEND:20130322T210000Z
X-MICROSOFT-CDO-ALLDAYEVENT:FALSE
SUMMARY:Free Vein Screening at the Shelby Baptist Medical Center in Alabaster
DESCRIPTION:Don't let leg pain and swelling limit your life!\n\n\n\nFREE VEIN SCREENING!\n\n\n\nShelby Baptist Medical Center in Alabaster\n\n\n\nAPPOINTMENT REQUIRED\n\n\n\nCall 1-877-222-7847 or 205-715-5050\n\nMonday - Friday between 7 am & 3:30 pm\n\nto schedule your appointment.\n\n\n\nScreening appointment visits will be scheduled as follows:\n\nMarch 14 from 2 pm to 4 pm\n\nMarch 22 from 2 pm to 4 pm\n\n\n\nIf you have varicose veins or experience pressure\, pain\, swelling\, heaviness or restlessness in your legs\, you may have venous disease.  Left untreated\, these symptoms can lead to blood clots\, skin ulcerations and other serious complications so act now.\n\n\n\nCALL TODAY TO MAKE AN APPOINTMENT FOR OUR FREE VEIN SCREENING!
X-ALT-DESC;FMTTYPE=text/html:Don&#39\;t let leg pain and swelling limit your life!<br />\n<br />\nFREE VEIN SCREENING!<br />\n<br />\nShelby Baptist Medical Center in Alabaster<br />\n<br />\nAPPOINTMENT REQUIRED<br />\n<br />\nCall 1-877-222-7847 or 205-715-5050<br />\nMonday - Friday between 7 am &amp\; 3:30 pm<br />\nto schedule your appointment.<br />\n<br />\nScreening appointment visits will be scheduled as follows:<br />\nMarch 14 from 2 pm to 4 pm<br />\nMarch 22 from 2 pm to 4 pm<br />\n<br />\nIf you have varicose veins or experience pressure\, pain\, swelling\, heaviness or restlessness in your legs\, you may have venous disease.&nbsp\; Left untreated\, these symptoms can lead to blood clots\, skin ulcerations and other serious complications so act now.<br />\n<br />\nCALL TODAY TO MAKE AN APPOINTMENT FOR OUR FREE VEIN SCREENING!
LOCATION:Shelby Baptist Medical Center Vein Center 1022 First Street North\, Suite 400 Alabaster\, AL 35007
UID:e.145.4558
SEQUENCE:3
DTSTAMP:20260424T160449Z
URL:https://business.shelbychamber.org/events/details/free-vein-screening-at-the-shelby-baptist-medical-center-in-alabaster-03-22-2013-4558
END:VEVENT

END:VCALENDAR
