BEGIN:VCALENDAR
VERSION:2.0
PRODID:-//ChamberMaster//Event Calendar 2.0//EN
METHOD:PUBLISH
X-PUBLISHED-TTL:P3D
REFRESH-INTERVAL:P3D
CALSCALE:GREGORIAN
BEGIN:VEVENT
DTSTART:20130511T120000Z
DTEND:20130511T200000Z
X-MICROSOFT-CDO-ALLDAYEVENT:FALSE
SUMMARY:Friends of the North Shelby Library "Yard Sale"
DESCRIPTION:The Friends of the North Shelby Library is hosting a large fundraiser *Yard Sale* to support the library's upcoming Summer Reading Program.\n\nDate: Saturday\, May 11th from 7:00 am-3:00 pm.\n\nDonations accepted: Wed\, May 8th 10am-6pm\, Thurs\, May 9th 10am-8pm\, and Fri\, May 10th 10am-4pm.\n\nSuggested donations include: toys\, furniture\, bikes\, books\, outdoor gear\, and sports equipment. We cannot accept clothes\, shoes\, computers\, mattresses\, or cribs. There will also be a preview party show and sale on Friday night at 6:30pm\, with tickets costing $25. Help us make this year's Summer Reading Program the best one yet!
X-ALT-DESC;FMTTYPE=text/html:The Friends of the North Shelby Library is hosting a large fundraiser&nbsp\;*Yard Sale* to support the library&rsquo\;s upcoming Summer Reading Program.<br />\n<strong>Date</strong>: Saturday\, May 11th from 7:00 am-3:00 pm.<br />\n<strong>Donations accepted</strong>: Wed\, May 8th 10am-6pm\, Thurs\, May 9th 10am-8pm\, and Fri\, May 10th 10am-4pm.<br />\n<strong>Suggested donations include:</strong> toys\, furniture\, bikes\, books\, outdoor gear\, and sports equipment. We cannot accept clothes\, shoes\, computers\, mattresses\, or cribs. <em>There will also be a preview party show and sale on Friday night at 6:30pm\, with tickets costing $25</em>. Help us make this year&rsquo\;s Summer Reading Program the best one yet!
LOCATION:North Shelby Library 5521 Cahaba Valley Rd. Birmingham\, AL 35242
UID:e.145.4592
SEQUENCE:3
DTSTAMP:20260424T120730Z
URL:https://business.shelbychamber.org/events/details/friends-of-the-north-shelby-library-yard-sale-05-11-2013-4592
END:VEVENT

END:VCALENDAR
