BEGIN:VCALENDAR
VERSION:2.0
PRODID:-//ChamberMaster//Event Calendar 2.0//EN
METHOD:PUBLISH
X-PUBLISHED-TTL:P3D
REFRESH-INTERVAL:P3D
CALSCALE:GREGORIAN
BEGIN:VEVENT
DTSTART:20130510T233000Z
DTEND:20130511T020000Z
X-MICROSOFT-CDO-ALLDAYEVENT:FALSE
SUMMARY:Friends of the North Shelby Library "Yard Sale" Preview Party
DESCRIPTION:Friends of North Shelby Library "Yard Sale" Preview Party and Sale\n\nFriday\, May 10\, 2013\, at 6:30 PM\, the night before the Saturday\, May 11\, 2013\, Sale\n\nThis event supports the North Shelby Library's upcoming Summer Reading Program.\n\nHelp us make this year's Summer Reading Program the best one yet!
X-ALT-DESC;FMTTYPE=text/html:Friends of North Shelby Library &quot\;Yard Sale&quot\; Preview Party and Sale<br />\nFriday\, May 10\, 2013\, at 6:30 PM\, the night before the Saturday\, May 11\, 2013\,&nbsp\;Sale<br />\nThis event supports the North Shelby Library&#39\;s upcoming Summer Reading Program.<br />\nHelp us make this year&#39\;s Summer Reading Program the best one yet!
LOCATION:North Shelby Library 5521 Cahaba Valley Rd. Birmingham\, AL 35242
UID:e.145.4593
SEQUENCE:3
DTSTAMP:20260424T120904Z
URL:https://business.shelbychamber.org/events/details/friends-of-the-north-shelby-library-yard-sale-preview-party-05-10-2013-4593
END:VEVENT

END:VCALENDAR
