BEGIN:VCALENDAR
VERSION:2.0
PRODID:-//ChamberMaster//Event Calendar 2.0//EN
METHOD:PUBLISH
X-PUBLISHED-TTL:P3D
REFRESH-INTERVAL:P3D
CALSCALE:GREGORIAN
BEGIN:VEVENT
DTSTART:20150306T190000Z
DTEND:20150306T200000Z
X-MICROSOFT-CDO-ALLDAYEVENT:FALSE
SUMMARY:Frios Gourmet Pops Ribbon Cutting
DESCRIPTION:Please join us for a Ribbon Cutting to celebrate the Grand Opening of Frio's Gourmet Pops!
X-ALT-DESC;FMTTYPE=text/html:Please join us for a Ribbon Cutting to celebrate the Grand Opening of Frio&#39\;s Gourmet Pops! &nbsp\;&nbsp\;&nbsp\;
LOCATION:They are located at 569 1st Street Southwest\, Alabaster\, 35007
UID:e.145.7568
SEQUENCE:3
DTSTAMP:20260423T034027Z
URL:https://business.shelbychamber.org/events/details/frios-gourmet-pops-ribbon-cutting-03-06-2015-7568
END:VEVENT

END:VCALENDAR
