BEGIN:VCALENDAR
VERSION:2.0
PRODID:-//ChamberMaster//Event Calendar 2.0//EN
METHOD:PUBLISH
X-PUBLISHED-TTL:P3D
REFRESH-INTERVAL:P3D
CALSCALE:GREGORIAN
BEGIN:VEVENT
DTSTART:20140801T230000Z
DTEND:20140802T010000Z
X-MICROSOFT-CDO-ALLDAYEVENT:FALSE
SUMMARY:Frozen Friday Fundraiser at the Summit Barnes & Noble
DESCRIPTION:Frozen Friday Fundraiser at the Summit Barnes & Noble\n\nFriday\, August 1st @ 6:00 pm\n\nCool Off With Olaf! A Get Pop-Cultured with Barnes & Noble Event. Bring in the kids for Storytime\, a sing-along\, crafts and activities with everyone's favorite summer-loving snowman! Activity stations will begin at 6:00 pm and story/sing-along will start at 7:00 pm! This fundraiser will benefit the North Shelby Library. For the library to receive credit\, use voucher number 11405396 to shop online or at the store August 1st   August 5th.
X-ALT-DESC;FMTTYPE=text/html:<strong>Frozen Friday Fundraiser at the Summit Barnes &amp\; Noble</strong><br />\n<strong>Friday\, August 1st @ 6:00 pm</strong><br />\nCool Off With Olaf! A Get Pop-Cultured with Barnes &amp\; Noble Event. Bring in the kids for Storytime\, a sing-along\, crafts and activities with everyone&#39\;s favorite summer-loving snowman! Activity stations will begin at 6:00 pm and story/sing-along will start at 7:00 pm! This fundraiser will benefit the North Shelby Library. For the library to receive credit\, use voucher number 11405396 to shop online or at the store August 1st &ndash\; August 5th.
LOCATION:Barnes & Noble at the Summit 201 Summit Boulevard\, Suite 100
UID:e.145.5804
SEQUENCE:3
DTSTAMP:20260423T120603Z
URL:https://business.shelbychamber.org/events/details/frozen-friday-fundraiser-at-the-summit-barnes-noble-08-01-2014-5804
END:VEVENT

END:VCALENDAR
