BEGIN:VCALENDAR
VERSION:2.0
PRODID:-//ChamberMaster//Event Calendar 2.0//EN
METHOD:PUBLISH
X-PUBLISHED-TTL:P3D
REFRESH-INTERVAL:P3D
CALSCALE:GREGORIAN
BEGIN:VEVENT
DTSTART:20110718T233000Z
DTEND:20110719T003000Z
X-MICROSOFT-CDO-ALLDAYEVENT:FALSE
SUMMARY:Full or Part Time Employment Opportunity
DESCRIPTION:Full or Part Time Employment Opportunity\n\n\n\nIf you or anyone you know is looking for a part time or full time position\, this is a GREAT opportunity.  We have been working with this for less that 2 months and it is going GREAT!\n\nWe are looking for people to use the cards  AND for people that want to make money handing out cards.\n\n\n\nClick here for a printable PDF flier with info on the ProvisionRx program.\n\n\n\nMARK YOUR CALENDARS:      \n\n\n\nWe are having an information overview at the following:\n\n\n\nMonday\, July 18 @ 6:30pm\n\nGolden Corral on Lorna Rd in Hoover\n\n3117 LORNA BLVD\n\nHOOVER\, AL 35216\n\nPhone: (205) 822-1314\n\n\n\nTuesday\, July 19 @ 6:30pm\n\nCalera Municipal Library on Hwy 25 in Calera\n\nCalera Municipal Library\, 9700 Highway 25\, Calera\, AL 35040\n\n\n\nMonique Hahn\n\n3418 7th Ct S\n\nBirmingham\, AL  35222\n\n205-337-6429
X-ALT-DESC;FMTTYPE=text/html:<strong>Full or Part Time Employment Opportunity</strong><br />\n<br />\nIf you or anyone you know is looking for a part time or full time position\, this is a GREAT opportunity.&nbsp\; We have been working with this for less that 2 months and it is going GREAT!<br />\nWe are looking for people to use the cards&hellip\;&hellip\;AND for people that want to make money handing out cards.<br />\n<br />\n<a href="http://cloud.chambermaster.com/userfiles/UserFiles/chambers/145/File/Member Promotions/ProvisionRxFactSheetJuly2011.pdf">Click here for a printable PDF flier with info on the ProvisionRx program.</a><br />\n<br />\n<strong>MARK YOUR CALENDARS</strong>:&nbsp\;&nbsp\;&nbsp\;&nbsp\; &nbsp\;<br />\n<br />\nWe are having an information overview at the following:<br />\n<br />\nMonday\, July 18 @ 6:30pm<br />\nGolden Corral on Lorna Rd in Hoover<br />\n3117 LORNA BLVD<br />\nHOOVER\, AL 35216<br />\nPhone: (205) 822-1314<br />\n<br />\nTuesday\, July 19 @ 6:30pm<br />\nCalera Municipal Library on Hwy 25 in Calera<br />\nCalera Municipal Library\, 9700 Highway 25\, Calera\, AL 35040<br />\n<br />\nMonique Hahn<br />\n3418 7th Ct S<br />\nBirmingham\, AL&nbsp\; 35222<br />\n205-337-6429
LOCATION:Monday\, July 18 @ 6:30pm Golden Corral on Lorna Rd in Hoover 3117 LORNA BLVD HOOVER\, AL 35216 Phone: (205) 822-1314 Tuesday\, July 19 @ 6:30pm Calera Municipal Library on Hwy 25 in Calera Calera Municipal Library\, 9700 Highway 25\, Calera\, AL 35040
UID:e.145.3467
SEQUENCE:3
DTSTAMP:20260425T232636Z
URL:https://business.shelbychamber.org/events/details/full-or-part-time-employment-opportunity-07-18-2011-3467
END:VEVENT

END:VCALENDAR
