BEGIN:VCALENDAR
VERSION:2.0
PRODID:-//ChamberMaster//Event Calendar 2.0//EN
METHOD:PUBLISH
X-PUBLISHED-TTL:P3D
REFRESH-INTERVAL:P3D
CALSCALE:GREGORIAN
BEGIN:VEVENT
DTSTART:20170310T000000Z
DTEND:20170310T020000Z
X-MICROSOFT-CDO-ALLDAYEVENT:FALSE
SUMMARY:Gallery Opening for the SCAC Instructor/Student Annual Exhibit
DESCRIPTION:Join us for the opening artist reception of the SCAC Annual Instructor/Student Art Exhibit! This year's exhibit honors the life of Frances Donehoo Presson. Featured works from instructors\, students\, and staff of the SCAC will be on display. The opening reception will feature a chance to speak to the artists\, and enjoy some hors d'oeuvres in the gallery. If you can't make it to the opening\, don't fret! The exhibit will be open through April 14- gallery hours are Monday-Thursday from 10 am until 5 pm. Don't miss out on this chance to enjoy the beautiful work of our artist community!
X-ALT-DESC;FMTTYPE=text/html:Join us for the opening artist reception of the SCAC Annual Instructor/Student Art Exhibit! This year&#39\;s exhibit honors the life of Frances Donehoo Presson. Featured works from instructors\, students\, and staff of the SCAC will be on display. The opening reception will feature a chance to speak to the artists\, and enjoy some hors d&#39\;oeuvres in the gallery. If you can&#39\;t make it to the opening\, don&#39\;t fret! The exhibit will be open through April 14- gallery hours are Monday-Thursday from 10 am until 5 pm. Don&#39\;t miss out on this chance to enjoy the beautiful work of our artist community!
LOCATION:The opening artist reception will take place in the Shelby County Arts Council Gallery\, located at 104 Mildred Street\, Columbiana\, AL 35051.
UID:e.145.10504
SEQUENCE:3
DTSTAMP:20260419T130810Z
URL:https://business.shelbychamber.org/events/details/gallery-opening-for-the-scac-instructor-student-annual-exhibit-10504
END:VEVENT

END:VCALENDAR
