BEGIN:VCALENDAR
VERSION:2.0
PRODID:-//ChamberMaster//Event Calendar 2.0//EN
METHOD:PUBLISH
X-PUBLISHED-TTL:P3D
REFRESH-INTERVAL:P3D
CALSCALE:GREGORIAN
BEGIN:VEVENT
DTSTART:20160520T153000Z
DTEND:20160520T161500Z
X-MICROSOFT-CDO-ALLDAYEVENT:FALSE
SUMMARY:Garden Party
DESCRIPTION:Join us for stories\, songs\, hands-on learning and LOTS of yummy snacks\, harvested from our special library garden! Come learn about plants and growing things with our STEAM initiative (science\, technology\, engineering\, art\, and math). We'll visit our garden\, listen to stories\, plant some seeds to take home\, and enjoy some of the delicious treats from our vegetable garden! Ages 5 and up. Registration required.
X-ALT-DESC;FMTTYPE=text/html:<span style="font-family:calibri light\,sans-serif">Join us for stories\, songs\, hands-on learning and LOTS of yummy snacks\, harvested from our special library garden! Come learn about plants and growing things with our STEAM initiative (science\, technology\, engineering\, art\, and math). We&rsquo\;ll visit our garden\, listen to stories\, plant some seeds to take home\, and enjoy some of the delicious treats from our vegetable garden! Ages 5 and up. Registration required.&nbsp\;</span>
LOCATION:North Shelby Library
UID:e.145.9492
SEQUENCE:3
DTSTAMP:20260422T044651Z
URL:https://business.shelbychamber.org/events/details/garden-party-05-20-2016-9492
END:VEVENT

END:VCALENDAR
