BEGIN:VCALENDAR
VERSION:2.0
PRODID:-//ChamberMaster//Event Calendar 2.0//EN
METHOD:PUBLISH
X-PUBLISHED-TTL:P3D
REFRESH-INTERVAL:P3D
CALSCALE:GREGORIAN
BEGIN:VEVENT
DTSTART;VALUE=DATE:20130314
DTEND;VALUE=DATE:20130315
TRANSP:TRANSPARENT
X-MICROSOFT-CDO-ALLDAYEVENT:TRUE
SUMMARY:Gardens of Pelham Assisted Living Facility NOW OPEN!!
DESCRIPTION:We are an Assisted Living facility located at 2124 Old Montgomery Highway just off Highway 31.  We have 16 private rooms with adjoining baths.  We would love to give you a guided tour. Drop by anytime or call Greer for an appointment - 205-402-9922
X-ALT-DESC;FMTTYPE=text/html:<span style="font-family: tahoma\;">We are an Assisted Living facility located at 2124 Old Montgomery Highway just off Highway 31.&nbsp\; We have 16 private rooms with adjoining baths.&nbsp\; We would love to give you a guided tour. Drop by anytime or call Greer for an appointment - 205-402-9922</span>
LOCATION:2124 Old Montgomery Highway
UID:e.145.4551
SEQUENCE:3
DTSTAMP:20260424T153941Z
URL:https://business.shelbychamber.org/events/details/gardens-of-pelham-assisted-living-facility-now-open-03-14-2013-4551
END:VEVENT

END:VCALENDAR
