BEGIN:VCALENDAR
VERSION:2.0
PRODID:-//ChamberMaster//Event Calendar 2.0//EN
METHOD:PUBLISH
X-PUBLISHED-TTL:P3D
REFRESH-INTERVAL:P3D
CALSCALE:GREGORIAN
BEGIN:VEVENT
DTSTART:20130430T200000Z
DTEND:20130430T213000Z
X-MICROSOFT-CDO-ALLDAYEVENT:FALSE
SUMMARY:Gardens of Pelham Open House and Ribbon Cutting
DESCRIPTION:Everyone is invited to join in the celebration at the Gardens of Pelham Open House and Ribbon Cutting Ceremony on April 30th beginning at 3pm!  The official Ribbon Cutting will begin at 3pm with the open house to follow until 4:30pm.
X-ALT-DESC;FMTTYPE=text/html:<strong>Everyone is invited</strong> to join in the celebration at the <strong>Gardens of Pelham</strong> Open House and Ribbon Cutting Ceremony on <strong>April 30th beginning at 3pm</strong>!&nbsp\; The official Ribbon Cutting will begin at 3pm with the open house to follow until 4:30pm.
LOCATION:2124 Old Montgomery Highway Pelham\, AL 35124
UID:e.145.4571
SEQUENCE:3
DTSTAMP:20260424T135058Z
URL:https://business.shelbychamber.org/events/details/gardens-of-pelham-open-house-and-ribbon-cutting-04-30-2013-4571
END:VEVENT

END:VCALENDAR
