BEGIN:VCALENDAR
VERSION:2.0
PRODID:-//ChamberMaster//Event Calendar 2.0//EN
METHOD:PUBLISH
X-PUBLISHED-TTL:P3D
REFRESH-INTERVAL:P3D
CALSCALE:GREGORIAN
BEGIN:VEVENT
DTSTART:20131102T150000Z
DTEND:20131103T230000Z
X-MICROSOFT-CDO-ALLDAYEVENT:FALSE
SUMMARY:Giant Book Sale
DESCRIPTION:North Shelby Library is having a giant book sale with the largest inventory we have ever had! Hardbacks are 2 for $3.00 and paperbacks are 4 for $1.00. DVDs\, audiobooks and more also available for sale! All proceeds benefit the library!
X-ALT-DESC;FMTTYPE=text/html:North Shelby Library is having a giant book sale with the largest inventory we have ever had! Hardbacks are 2 for $3.00 and paperbacks are 4 for $1.00. DVDs\, audiobooks and more also available for sale! All proceeds benefit the library!
LOCATION:North Shelby Library - across from Heardmont Park
UID:e.145.4897
SEQUENCE:3
DTSTAMP:20260424T020635Z
URL:https://business.shelbychamber.org/events/details/giant-book-sale-11-02-2013-4897
END:VEVENT

END:VCALENDAR
