BEGIN:VCALENDAR
VERSION:2.0
PRODID:-//ChamberMaster//Event Calendar 2.0//EN
METHOD:PUBLISH
X-PUBLISHED-TTL:P3D
REFRESH-INTERVAL:P3D
CALSCALE:GREGORIAN
BEGIN:VEVENT
DTSTART:20140921T180000Z
DTEND:20140921T220000Z
X-MICROSOFT-CDO-ALLDAYEVENT:FALSE
SUMMARY:Giant Book Sale at North Shelby Library
DESCRIPTION:Friday\, September 19th from 6:30pm-8pm: Friends Preview Event including snacks\, adult beverages and the best book deals we have ever offered!  New Friends members will receive a tote bag and $5.00 coupon towards the book sale! \n\nSaturday\, September 20th from 10am-4pm and Sunday\, September 21st from 1pm-5pm: Public Book Sale! Thousands of books\, DVDs\, and audiobooks to choose from!
X-ALT-DESC;FMTTYPE=text/html:Friday\, September 19th from 6:30pm-8pm: Friends Preview Event including snacks\, adult beverages and the best book deals we have ever offered! &nbsp\;New Friends members will receive a tote bag and $5.00 coupon towards the book sale!&nbsp\;<br />\nSaturday\, September 20th from 10am-4pm and Sunday\, September 21st from 1pm-5pm: Public Book Sale! Thousands of books\, DVDs\, and audiobooks to choose from!
LOCATION:North Shelby Library 5521 Cahaba Valley Road Birmingham\, AL 35242
UID:e.145.6189
SEQUENCE:3
DTSTAMP:20260423T104053Z
URL:https://business.shelbychamber.org/events/details/giant-book-sale-at-north-shelby-library-09-21-2014-6189
END:VEVENT

END:VCALENDAR
