BEGIN:VCALENDAR
VERSION:2.0
PRODID:-//ChamberMaster//Event Calendar 2.0//EN
METHOD:PUBLISH
X-PUBLISHED-TTL:P3D
REFRESH-INTERVAL:P3D
CALSCALE:GREGORIAN
BEGIN:VEVENT
DTSTART;VALUE=DATE:20121204
DTEND;VALUE=DATE:20121207
TRANSP:TRANSPARENT
X-MICROSOFT-CDO-ALLDAYEVENT:TRUE
SUMMARY:Gingerbread White House Christmas at the American Village
DESCRIPTION:Make this a Gingerbread White House Christmas at the American Village! \n\n\n\nSee the White House in Gingerbread.\n\nEnjoy a delicious lunch in Liberty Hall\, patterned after the East Room of the White House.\n\nMeet George Washington and America's founders. \n\nTour the President's House and Colonial Chapel. \n\nEnjoy the lovely miniature Christmas Village and train.\n\nOur Christmas lunch & tour will be a memorable outing for your group. \n\nOffered Tuesday-Thursday\, December 4 - 6\; 10:30a.m. or 12p.m. each day. \n\nTour and Lunch:  $25\, per person. \n\nBy reservation only so call today:  205-665-3535 (ext. 1031) or email:  christmas@americanvillage.org
X-ALT-DESC;FMTTYPE=text/html:<strong><em><span style="font-family:arial\,sans-serif\;"><span style="font-size:8.0pt\;">Make this a Gingerbread White House Christmas at the American Village! </span></span></em></strong><br />\n<br />\n<strong><em><span style="font-family:arial\,sans-serif\;"><span style="font-size:8.0pt\;">See the White House in Gingerbread.</span></span></em></strong><br />\n<strong><em><span style="font-family:arial\,sans-serif\;"><span style="font-size:8.0pt\;">Enjoy a delicious lunch in Liberty Hall\, patterned after the East Room of the White House.</span></span></em></strong><br />\n<strong><em><span style="font-family:arial\,sans-serif\;"><span style="font-size:8.0pt\;">Meet George Washington and America&rsquo\;s founders. </span></span></em></strong><br />\n<strong><em><span style="font-family:arial\,sans-serif\;"><span style="font-size:8.0pt\;">Tour the President&rsquo\;s House and Colonial Chapel. </span></span></em></strong><br />\n<strong><em><span style="font-family:arial\,sans-serif\;"><span style="font-size:8.0pt\;">Enjoy the lovely miniature Christmas Village and train.</span></span></em></strong><br />\n<strong><em><span style="font-family:arial\,sans-serif\;"><span style="font-size:8.0pt\;">Our Christmas lunch &amp\; tour will be a memorable outing for your group.&nbsp\;</span></span></em></strong><br />\n<strong><em><span style="font-family:arial\,sans-serif\;"><span style="font-size:8.0pt\;">Offered Tuesday-Thursday\, December 4 - 6\; 10:30a.m. or 12p.m. each day.&nbsp\;</span></span></em></strong><br />\n<em><span style="font-family:arial\,sans-serif\;"><span style="font-size:8.0pt\;"><strong><span style="font-family:arial\,sans-serif\;">Tour and Lunch:&nbsp\; $25\, per person.&nbsp\;</span></strong></span><br />\n<strong><span style="font-family:arial\,sans-serif\;">By reservation only so call today:&nbsp\; 205-665-3535 (ext. 1031) or email:&nbsp\; <a href="mailto:christmas@americanvillage.org"><span style="font-weight:normal\;">christmas@americanvillage.org</span></a></span></strong></span></em>
LOCATION:American Village 3727 Highway 119 S Montevallo\, AL
UID:e.145.4249
SEQUENCE:3
DTSTAMP:20260424T202303Z
URL:https://business.shelbychamber.org/events/details/gingerbread-white-house-christmas-at-the-american-village-12-04-2012-4249
END:VEVENT

END:VCALENDAR
