BEGIN:VCALENDAR
VERSION:2.0
PRODID:-//ChamberMaster//Event Calendar 2.0//EN
METHOD:PUBLISH
X-PUBLISHED-TTL:P3D
REFRESH-INTERVAL:P3D
CALSCALE:GREGORIAN
BEGIN:VEVENT
DTSTART:20110409T180000Z
DTEND:20110409T200000Z
X-MICROSOFT-CDO-ALLDAYEVENT:FALSE
SUMMARY:Girl Scout Vendor Fair
DESCRIPTION:Fundraiser to raise money for Troop 28 Trip to Savannah
X-ALT-DESC;FMTTYPE=text/html:Fundraiser to raise money for Troop 28 Trip to Savannah
LOCATION:Grace Christian Church\; 869 Hwy 53 Helena\, AL 35080
UID:e.145.3373
SEQUENCE:3
DTSTAMP:20260426T035250Z
URL:https://business.shelbychamber.org/events/details/girl-scout-vendor-fair-04-09-2011-3373
END:VEVENT

END:VCALENDAR
