BEGIN:VCALENDAR
VERSION:2.0
PRODID:-//ChamberMaster//Event Calendar 2.0//EN
METHOD:PUBLISH
X-PUBLISHED-TTL:P3D
REFRESH-INTERVAL:P3D
CALSCALE:GREGORIAN
BEGIN:VEVENT
DTSTART:20111203T163000Z
DTEND:20111203T180000Z
X-MICROSOFT-CDO-ALLDAYEVENT:FALSE
SUMMARY:Girl Scouts of North Central Alabama Collecting Warm Fuzzies at Alabaster Parade
DESCRIPTION:Bring Donations of "Warm Fuzzies" to the Alabaster Parade to Contribute to the Girl Scouts!\n\n\n\nThe Girl Scouts are expecting over 200 girls representing Girl Scouts in the Alabaster Parade this Saturday\, December 3.\n\n\n\nThe Girl Scouts will be collecting "warm and fuzzies" along the route.\n\n\n\nThis would include hats\, gloves\, scarves and coats. All donations will be distributed within Shelby County.
X-ALT-DESC;FMTTYPE=text/html:<strong>Bring Donations of &quot\;Warm Fuzzies&quot\; to the Alabaster Parade to Contribute to the Girl Scouts!</strong><br />\n<br />\nThe Girl Scouts are expecting over 200 girls representing Girl Scouts in the Alabaster Parade this Saturday\, December 3.<br />\n<br />\nThe Girl Scouts will be collecting &quot\;warm and fuzzies&quot\; along the route.<br />\n<br />\n<strong>This would include hats\, gloves\, scarves and coats. All donations will be distributed within Shelby County.</strong>
LOCATION:North Promenade Shopping Center (map) www.cityofalabaster.com/christmas-parade-dec-2011/sp/347
UID:e.145.3622
SEQUENCE:3
DTSTAMP:20260425T153554Z
URL:https://business.shelbychamber.org/events/details/girl-scouts-of-north-central-alabama-collecting-warm-fuzzies-at-alabaster-parade-12-03-2011-3622
END:VEVENT

END:VCALENDAR
