BEGIN:VCALENDAR
VERSION:2.0
PRODID:-//ChamberMaster//Event Calendar 2.0//EN
METHOD:PUBLISH
X-PUBLISHED-TTL:P3D
REFRESH-INTERVAL:P3D
CALSCALE:GREGORIAN
BEGIN:VEVENT
DTSTART:20160821T003000Z
DTEND:20160821T030000Z
X-MICROSOFT-CDO-ALLDAYEVENT:FALSE
SUMMARY:GoodFellas- Jazz Duo
DESCRIPTION:Doodfellas is a Birmingham based jazz duo featuring the talents of Jeff Lopez on sax and Ken Talley\, Sr. on keys.  The Goods are known for bringing their spin on classic rock n' roll music to small stage venues.
X-ALT-DESC;FMTTYPE=text/html:Doodfellas is a Birmingham based jazz duo featuring the talents of Jeff Lopez on sax and Ken Talley\, Sr. on keys. &nbsp\;The Goods are known for bringing their spin on classic rock n&#39\; roll music to small stage venues.
LOCATION:104 Mildred Street\, Columbiana\, AL 35051
UID:e.145.9588
SEQUENCE:3
DTSTAMP:20260421T234448Z
URL:https://business.shelbychamber.org/events/details/goodfellas-jazz-duo-08-20-2016-9588
END:VEVENT

END:VCALENDAR
