BEGIN:VCALENDAR
VERSION:2.0
PRODID:-//ChamberMaster//Event Calendar 2.0//EN
METHOD:PUBLISH
X-PUBLISHED-TTL:P3D
REFRESH-INTERVAL:P3D
CALSCALE:GREGORIAN
BEGIN:VEVENT
DTSTART:20160821T003000Z
DTEND:20160821T020000Z
X-MICROSOFT-CDO-ALLDAYEVENT:FALSE
SUMMARY:Goodfellas Jazz Duo
DESCRIPTION:"Goodfellas" is a Birmingham based Jazz duo featuring the talents of Jeff Lopez on sax and Ken Tally\, Sr. on Keys. "The Goods" are known for bringing their spin on classic rock n' roll music to small stage venues.
X-ALT-DESC;FMTTYPE=text/html:&quot\;Goodfellas&quot\; is a Birmingham based Jazz duo featuring the talents of Jeff Lopez on sax and Ken Tally\, Sr. on Keys. &quot\;The Goods&quot\; are known for bringing their spin on classic rock n&#39\; roll music to small stage venues.
LOCATION:Shelby County Arts Council
UID:e.145.9641
SEQUENCE:3
DTSTAMP:20260421T234454Z
URL:https://business.shelbychamber.org/events/details/goodfellas-jazz-duo-08-20-2016-9641
END:VEVENT

END:VCALENDAR
