BEGIN:VCALENDAR
VERSION:2.0
PRODID:-//ChamberMaster//Event Calendar 2.0//EN
METHOD:PUBLISH
X-PUBLISHED-TTL:P3D
REFRESH-INTERVAL:P3D
CALSCALE:GREGORIAN
BEGIN:VEVENT
DTSTART:20110827T123000Z
DTEND:20110827T220000Z
X-MICROSOFT-CDO-ALLDAYEVENT:FALSE
SUMMARY:Got Creek 5k ~presented by the Oak Mountain Runner's Club
DESCRIPTION:Got Creek? 5K is not a typical 5K race\; the surface is mostly grass\, with some pavement trails. There is a creek to be crossed multiple times over the course. This event is hosted by Oak Mountain Runners Club in conjunction with the Oak Mountain High School Cross Country Invitational. The Oak Mountain High School annual cross country invitational will take place right after the 5k\, so stick around and watch the action. Teams will be represented from across Birmingham and State of Alabama. OMRC is a 501-3c Alabama not for profit organization with race proceeds to benefit the Oak Mountain Schools running programs.
X-ALT-DESC;FMTTYPE=text/html:<span style="font-size: 12pt\;"><span style="font-family: arial narrow\,sans-serif\;">Got Creek? 5K is not a typical 5K race\; the surface is mostly grass\, with some pavement trails. There is a creek to be crossed multiple times over the course. This event is hosted by Oak Mountain Runners Club in conjunction with the Oak Mountain High School Cross Country Invitational. The Oak Mountain High School annual cross country invitational will take place right after the 5k\, so stick around and watch the action. Teams will be represented from across Birmingham and State of Alabama. OMRC is a 501-3c Alabama not for profit organization with race proceeds to benefit the Oak Mountain Schools running programs.</span></span><br />\n&nbsp\;<br />\n
LOCATION:Heardmont Park 5458 Cahaba Valley Rd (Ala Hwy 119) Birmingham\, AL 35242
UID:e.145.3454
SEQUENCE:3
DTSTAMP:20260425T232508Z
URL:https://business.shelbychamber.org/events/details/got-creek-5k-presented-by-the-oak-mountain-runner-s-club-08-27-2011-3454
END:VEVENT

END:VCALENDAR
