BEGIN:VCALENDAR
VERSION:2.0
PRODID:-//ChamberMaster//Event Calendar 2.0//EN
METHOD:PUBLISH
X-PUBLISHED-TTL:P3D
REFRESH-INTERVAL:P3D
CALSCALE:GREGORIAN
BEGIN:VEVENT
DTSTART:20110609T164000Z
DTEND:20110609T180000Z
X-MICROSOFT-CDO-ALLDAYEVENT:FALSE
SUMMARY:GPS Vehicle Tracking Lunch and Learn
DESCRIPTION:Reduce labor and fleet costs with a vehicle tracking solution designed for commercial businesses and public agencies.  Networkfleet presenters Tim Payne\, national sales manager\, and Sean Stenson\, regional sales manager\, will show a live web demo of a customer fleet.  3 local customers will share their firsthand experience with Networkfleet.  Please join us for a delicious lunch\, valuable information and a special purchase price discount offered only to attendees.  Hosted by Sullivan Communications
X-ALT-DESC;FMTTYPE=text/html:Reduce labor and fleet costs with a vehicle tracking solution designed for commercial businesses and public agencies.  Networkfleet presenters Tim Payne\, national sales manager\, and Sean Stenson\, regional sales manager\, will show a live web demo of a customer fleet.  3 local customers will share their firsthand experience with Networkfleet.  Please join us for a delicious lunch\, valuable information and a special purchase price discount offered only to attendees.  Hosted by Sullivan Communications
LOCATION:Arthur's Conference Center 144 Business Center Drive Birmingham\, AL 35244 (Off Valleydale\, between Ragtime and Hoover Public Safety Bldg)
UID:e.145.2686
SEQUENCE:3
DTSTAMP:20260426T005513Z
URL:https://business.shelbychamber.org/events/details/gps-vehicle-tracking-lunch-and-learn-06-09-2011-2686
END:VEVENT

END:VCALENDAR
