BEGIN:VCALENDAR
VERSION:2.0
PRODID:-//ChamberMaster//Event Calendar 2.0//EN
METHOD:PUBLISH
X-PUBLISHED-TTL:P3D
REFRESH-INTERVAL:P3D
CALSCALE:GREGORIAN
BEGIN:VEVENT
DTSTART:20130104T210000Z
DTEND:20130104T230000Z
X-MICROSOFT-CDO-ALLDAYEVENT:FALSE
SUMMARY:Grand Opening at JD's Furniture Warehouse
DESCRIPTION:We would like to invite everyone to attend our grand opening on January 4th. It is an all day event\, but the ribbon cutting will be between 3-5 pm. We are excited about being a new business in the Montevallo area. Free hot dogs\, snacks\, and more (while supplies last). We will be having a live band as well as some Christian groups.  There will be door prizes and many great furniture deals! Also\, we will be having the queen mattress give-a-way drawing as well as the $100 Texas Roadhouse gift card.
X-ALT-DESC;FMTTYPE=text/html:We would like to invite everyone to attend our grand opening on January 4th. It is an all day event\, but the ribbon cutting will be between 3-5 pm. We are excited about being a new business in the Montevallo area. Free hot dogs\, snacks\, and more (while supplies last). We will be having a live band as well as some Christian groups. &nbsp\;There will be door prizes and many great furniture deals! Also\, we will be having the queen mattress give-a-way drawing as well as the $100 Texas Roadhouse gift card.<br />\n<br />\n
LOCATION:JD's Furniture Warehouse 746 Main Street Montevallo\, AL 35115
UID:e.145.4440
SEQUENCE:3
DTSTAMP:20260424T202237Z
URL:https://business.shelbychamber.org/events/details/grand-opening-at-jd-s-furniture-warehouse-01-04-2013-4440
END:VEVENT

END:VCALENDAR
