BEGIN:VCALENDAR
VERSION:2.0
PRODID:-//ChamberMaster//Event Calendar 2.0//EN
METHOD:PUBLISH
X-PUBLISHED-TTL:P3D
REFRESH-INTERVAL:P3D
CALSCALE:GREGORIAN
BEGIN:VEVENT
DTSTART:20160222T180000Z
DTEND:20160222T190000Z
X-MICROSOFT-CDO-ALLDAYEVENT:FALSE
SUMMARY:Grand Opening & Ribbon Cutting Fit 24
DESCRIPTION:You're Invited to the Grand Opening & Ribbon Cutting Ceremony for Fit 24!\n\n\n\nYou are invited to attend the Grand Opening\, Ribbon Cutting Celebration for Fit 24 located at 337 Huntley Parkway in Pelham on Monday\, February 22 at 12:00PM.
X-ALT-DESC;FMTTYPE=text/html:<p><br />\n<strong>You&#39\;re Invited to the Grand Opening &amp\; Ribbon Cutting Ceremony for Fit 24!</strong><br />\n<br />\nYou are invited to attend the Grand Opening\, Ribbon Cutting Celebration for Fit 24 located at 337 Huntley Parkway in Pelham on Monday\, February 22 at 12:00PM.</p>\n
LOCATION:Fit 24 337 Huntley Parkway Pelham\, AL 35124
UID:e.145.8302
SEQUENCE:3
DTSTAMP:20260422T110934Z
URL:https://business.shelbychamber.org/events/details/grand-opening-ribbon-cutting-fit-24-02-22-2016-8302
END:VEVENT

END:VCALENDAR
