BEGIN:VCALENDAR
VERSION:2.0
PRODID:-//ChamberMaster//Event Calendar 2.0//EN
METHOD:PUBLISH
X-PUBLISHED-TTL:P3D
REFRESH-INTERVAL:P3D
CALSCALE:GREGORIAN
BEGIN:VEVENT
DTSTART:20160223T150000Z
DTEND:20160223T160000Z
X-MICROSOFT-CDO-ALLDAYEVENT:FALSE
SUMMARY:Grand Opening & Ribbon Cutting Fit 24
DESCRIPTION:You're Invited to the Grand Opening & Ribbon Cutting Ceremony for Fit 24!\n\n\n\nYou are invited to attend the Grand Opening\, Ribbon Cutting Celebration for Fit 24 located at 100 Hampton Drive\, Suite F in Calera on Tuesday\, February 23 at 9:00AM.
X-ALT-DESC;FMTTYPE=text/html:<p><br />\n<strong>You&#39\;re Invited to the Grand Opening &amp\; Ribbon Cutting Ceremony for Fit 24!</strong><br />\n<br />\nYou are invited to attend the Grand Opening\, Ribbon Cutting Celebration for Fit 24 located at 100 Hampton Drive\, Suite F in Calera on Tuesday\, February 23 at 9:00AM.</p>\n
LOCATION:Fit 24 100 Hampton Drive\, Suite F Calera\, AL 35040
UID:e.145.8303
SEQUENCE:3
DTSTAMP:20260422T093504Z
URL:https://business.shelbychamber.org/events/details/grand-opening-ribbon-cutting-fit-24-02-23-2016-8303
END:VEVENT

END:VCALENDAR
