BEGIN:VCALENDAR
VERSION:2.0
PRODID:-//ChamberMaster//Event Calendar 2.0//EN
METHOD:PUBLISH
X-PUBLISHED-TTL:P3D
REFRESH-INTERVAL:P3D
CALSCALE:GREGORIAN
BEGIN:VEVENT
DTSTART:20160105T153000Z
DTEND:20160105T160000Z
X-MICROSOFT-CDO-ALLDAYEVENT:FALSE
SUMMARY:Grand Opening & Ribbon Cutting Ovation Media\, Inc.
DESCRIPTION:You're Invited to the Grand Opening & Ribbon Cutting Ceremony for Ovation Media\, Inc. \n\n\n\nYou are invited to attend the Grand Opening Celebration\, Ribbon Cutting Celebration for Ovation Media\, Inc. located at 2222 Highway 52 in Helena on Tuesday\, January 5 at 9:30AM.
X-ALT-DESC;FMTTYPE=text/html:<p><br />\n<strong>You&#39\;re Invited to the Grand Opening &amp\; Ribbon Cutting Ceremony for Ovation Media\, Inc. </strong><br />\n<br />\nYou are invited to attend the Grand Opening Celebration\, Ribbon Cutting Celebration for Ovation Media\, Inc. located at 2222 Highway 52 in Helena on Tuesday\, January 5 at 9:30AM.</p>\n
LOCATION:Ovation Media\, Inc. 2222 Highway 52 Helena\, AL 35080
UID:e.145.8247
SEQUENCE:3
DTSTAMP:20260422T111103Z
URL:https://business.shelbychamber.org/events/details/grand-opening-ribbon-cutting-ovation-media-inc-01-05-2016-8247
END:VEVENT

END:VCALENDAR
