BEGIN:VCALENDAR
VERSION:2.0
PRODID:-//ChamberMaster//Event Calendar 2.0//EN
METHOD:PUBLISH
X-PUBLISHED-TTL:P3D
REFRESH-INTERVAL:P3D
CALSCALE:GREGORIAN
BEGIN:VEVENT
DTSTART:20160210T153000Z
DTEND:20160210T160000Z
X-MICROSOFT-CDO-ALLDAYEVENT:FALSE
SUMMARY:Grand Opening & Ribbon Cutting Pelham City Schools Connect 2 Careers Center
DESCRIPTION:You're Invited to the Grand Opening & Ribbon Cutting Ceremony for Pelham City Schools Connect 2 Careers Center\n\n\n\nYou are invited to attend the Grand Opening Celebration\, Ribbon Cutting Celebration for Pelham City Schools Connect 2 Careers Center located at in Pelham on Wednesday\, February 10 at 9:30AM.
X-ALT-DESC;FMTTYPE=text/html:<p><br />\n<strong>You&#39\;re Invited to the Grand Opening &amp\; Ribbon Cutting Ceremony for Pelham City Schools Connect 2 Careers Center</strong><br />\n<br />\nYou are invited to attend the Grand Opening Celebration\, Ribbon Cutting Celebration for Pelham City Schools Connect 2 Careers Center located at in Pelham on Wednesday\, February 10 at 9:30AM.</p>\n
LOCATION:Pelham City Schools Connect 2 Careers Center 2500 Panther Circle Pelham\, AL 35124
UID:e.145.8264
SEQUENCE:3
DTSTAMP:20260422T093811Z
URL:https://business.shelbychamber.org/events/details/grand-opening-ribbon-cutting-pelham-city-schools-connect-2-careers-center-02-10-2016-8264
END:VEVENT

END:VCALENDAR
