BEGIN:VCALENDAR
VERSION:2.0
PRODID:-//ChamberMaster//Event Calendar 2.0//EN
METHOD:PUBLISH
X-PUBLISHED-TTL:P3D
REFRESH-INTERVAL:P3D
CALSCALE:GREGORIAN
BEGIN:VEVENT
DTSTART:20160128T223000Z
DTEND:20160128T230000Z
X-MICROSOFT-CDO-ALLDAYEVENT:FALSE
SUMMARY:Grand Opening & Ribbon Cutting Russel Cellular Verizon
DESCRIPTION:You're Invited to the Grand Opening & Ribbon Cutting Ceremony for Russell Cellular Verizon!\n\n\n\nYou are invited to attend the Grand Opening Celebration\, Ribbon Cutting Celebration for Russell Cellular Verizon located at 295 Helena Market Place in Helena on Thursday\, January 28 at 4:30PM.
X-ALT-DESC;FMTTYPE=text/html:<p><br />\n<strong>You&#39\;re Invited to the Grand Opening &amp\; Ribbon Cutting Ceremony for Russell Cellular Verizon!</strong><br />\n<br />\nYou are invited to attend the Grand Opening Celebration\, Ribbon Cutting Celebration for Russell Cellular Verizon located at 295 Helena Market Place in Helena on Thursday\, January 28 at 4:30PM.</p>\n
LOCATION:Russell Cellular Verizon 295 Helena Market Place Helena\, AL 35080
UID:e.145.8299
SEQUENCE:3
DTSTAMP:20260422T111109Z
URL:https://business.shelbychamber.org/events/details/grand-opening-ribbon-cutting-russel-cellular-verizon-01-28-2016-8299
END:VEVENT

END:VCALENDAR
