BEGIN:VCALENDAR
VERSION:2.0
PRODID:-//ChamberMaster//Event Calendar 2.0//EN
METHOD:PUBLISH
X-PUBLISHED-TTL:P3D
REFRESH-INTERVAL:P3D
CALSCALE:GREGORIAN
BEGIN:VEVENT
DTSTART:20160119T203000Z
DTEND:20160119T210000Z
X-MICROSOFT-CDO-ALLDAYEVENT:FALSE
SUMMARY:Grand Opening & Ribbon Cutting Shining Stars Academy
DESCRIPTION:You're Invited to the Grand Opening & Ribbon Cutting Ceremony for Shining Stars Academy!\n\n\n\nYou are invited to attend the Grand Opening Celebration\, Ribbon Cutting Celebration for Shining Stars Academy located at 296 Yeager Parkway in Pelham on Tuesday\, January 19 at 2:30PM.
X-ALT-DESC;FMTTYPE=text/html:<p><br />\n<strong>You&#39\;re Invited to the Grand Opening &amp\; Ribbon Cutting Ceremony for Shining Stars Academy!</strong><br />\n<br />\nYou are invited to attend the Grand Opening Celebration\, Ribbon Cutting Celebration for Shining Stars Academy located at 296 Yeager Parkway in Pelham on Tuesday\, January 19 at 2:30PM.</p>\n
LOCATION:Shining Stars Academy 296 Yeager Parkway Pelham\, AL 35124
UID:e.145.8249
SEQUENCE:3
DTSTAMP:20260422T111115Z
URL:https://business.shelbychamber.org/events/details/grand-opening-ribbon-cutting-shining-stars-academy-01-19-2016-8249
END:VEVENT

END:VCALENDAR
