BEGIN:VCALENDAR
VERSION:2.0
PRODID:-//ChamberMaster//Event Calendar 2.0//EN
METHOD:PUBLISH
X-PUBLISHED-TTL:P3D
REFRESH-INTERVAL:P3D
CALSCALE:GREGORIAN
BEGIN:VEVENT
DTSTART:20160227T170000Z
DTEND:20160227T180000Z
X-MICROSOFT-CDO-ALLDAYEVENT:FALSE
SUMMARY:Grand Opening & Ribbon Cutting Unique Boutique by Nicole
DESCRIPTION:You're Invited to the Grand Opening & Ribbon Cutting Ceremony for Unique Boutique by Nicole!\n\n\n\nYou are invited to attend the Grand Opening Celebration\, Ribbon Cutting Celebration for Unique Boutique by Nicole located at 2969 Pelham Parkway in Pelham on Saturday\, February 27 at 11:00AM.
X-ALT-DESC;FMTTYPE=text/html:<p><br />\n<strong>You&#39\;re Invited to the Grand Opening &amp\; Ribbon Cutting Ceremony for Unique Boutique by Nicole!</strong><br />\n<br />\nYou are invited to attend the Grand Opening Celebration\, Ribbon Cutting Celebration for Unique Boutique by Nicole located at 2969 Pelham Parkway in Pelham on Saturday\, February 27 at 11:00AM.</p>\n
LOCATION:Unique Boutique by Nicole 2969 Pelham Parkway Suite P Pelham\, AL 35124
UID:e.145.8337
SEQUENCE:3
DTSTAMP:20260422T093648Z
URL:https://business.shelbychamber.org/events/details/grand-opening-ribbon-cutting-unique-boutique-by-nicole-02-27-2016-8337
END:VEVENT

END:VCALENDAR
