BEGIN:VCALENDAR
VERSION:2.0
PRODID:-//ChamberMaster//Event Calendar 2.0//EN
METHOD:PUBLISH
X-PUBLISHED-TTL:P3D
REFRESH-INTERVAL:P3D
CALSCALE:GREGORIAN
BEGIN:VEVENT
DTSTART:20150930T123000Z
DTEND:20150930T123000Z
X-MICROSOFT-CDO-ALLDAYEVENT:FALSE
SUMMARY:Grand Opening & Ribbon Cutting Wal-Mart Neighborhood Market Alabaster
DESCRIPTION:You're Invited to the Grand Opening & Ribbon Cutting Ceremony for the Wal-Mart Neighborhood Market in Alabaster\n\n\n\nYou are invited to attend the Grand Opening Celebration\, Ribbon Cutting Celebration for the Wal-Mart Neighborhood Market located at 9085 Highway 119 in Alabaster on Wednesday\, September 30 at 7:30AM.
X-ALT-DESC;FMTTYPE=text/html:<p><br />\n<strong>You&#39\;re Invited to the Grand Opening &amp\; Ribbon Cutting Ceremony for the Wal-Mart Neighborhood Market in Alabaster</strong><br />\n<br />\nYou are invited to attend the Grand Opening Celebration\, Ribbon Cutting Celebration for the Wal-Mart Neighborhood Market located at 9085 Highway 119 in Alabaster on Wednesday\, September 30 at 7:30AM.</p>\n
LOCATION:Wal-Mart Neighborhood Market 9085 Highway 119 Alabaster\, AL 35007 (205) 663-8762
UID:e.145.7900
SEQUENCE:3
DTSTAMP:20260422T172057Z
URL:https://business.shelbychamber.org/events/details/grand-opening-ribbon-cutting-wal-mart-neighborhood-market-alabaster-09-30-2015-7900
END:VEVENT

END:VCALENDAR
