BEGIN:VCALENDAR
VERSION:2.0
PRODID:-//ChamberMaster//Event Calendar 2.0//EN
METHOD:PUBLISH
X-PUBLISHED-TTL:P3D
REFRESH-INTERVAL:P3D
CALSCALE:GREGORIAN
BEGIN:VEVENT
DTSTART:20170327T140000Z
DTEND:20170327T160000Z
X-MICROSOFT-CDO-ALLDAYEVENT:FALSE
SUMMARY:GRAND OPENING Tiger Rock Martial Arts
DESCRIPTION:Join us for our Grand Opening! Tiger Rock Martial Arts has been teaching life skills and personal development through martial arts since 1983. The first 10 new students receive a FREE Intro Course and HALF OFF Enrollment.
X-ALT-DESC;FMTTYPE=text/html:<h2>Join us for our Grand Opening! Tiger Rock Martial Arts has been teaching life skills and personal development through martial arts since 1983. <em>The first 10 new students receive a <u>FREE</u> Intro Course and <u>HALF OFF</u> Enrollment.&nbsp\;</em></h2>\n
LOCATION:2748 Pelham Pkwy\, Pelham\, AL 35124 In the Shelby Mart shopping center next door to Home Accents
UID:e.145.10525
SEQUENCE:3
DTSTAMP:20260421T102305Z
URL:https://business.shelbychamber.org/events/details/grand-opening-tiger-rock-martial-arts-10525
END:VEVENT

END:VCALENDAR
