BEGIN:VCALENDAR
VERSION:2.0
PRODID:-//ChamberMaster//Event Calendar 2.0//EN
METHOD:PUBLISH
X-PUBLISHED-TTL:P3D
REFRESH-INTERVAL:P3D
CALSCALE:GREGORIAN
BEGIN:VEVENT
DTSTART:20160225T220000Z
DTEND:20160225T230000Z
X-MICROSOFT-CDO-ALLDAYEVENT:FALSE
SUMMARY:Grand Re-Opening & Ribbon Cutting 100 Inverness Apartment Homes
DESCRIPTION:You're Invited to the Grand Re-Opening & Ribbon Cutting Ceremony for 100 Invereness Apartment Homes!\n\n\n\nYou are invited to attend the Grand Re-Opening Celebration\, Ribbon Cutting Celebration for 100 Inverness Apartment Homes located at 100 Inverness Lane in Inverness on Thursday\, February 25 at 4:00PM.
X-ALT-DESC;FMTTYPE=text/html:<p><br />\n<strong>You&#39\;re Invited to the Grand Re-Opening &amp\; Ribbon Cutting Ceremony for 100 Invereness Apartment Homes!</strong><br />\n<br />\nYou are invited to attend the Grand Re-Opening Celebration\, Ribbon Cutting Celebration for 100 Inverness Apartment Homes located at 100 Inverness Lane in Inverness on Thursday\, February 25 at 4:00PM.</p>\n
LOCATION:100 Inverness Apartment Homes 100 Inverness Lane Birmingham\, AL 35242
UID:e.145.8300
SEQUENCE:3
DTSTAMP:20260422T111350Z
URL:https://business.shelbychamber.org/events/details/grand-re-opening-ribbon-cutting-100-inverness-apartment-homes-02-25-2016-8300
END:VEVENT

END:VCALENDAR
