BEGIN:VCALENDAR
VERSION:2.0
PRODID:-//ChamberMaster//Event Calendar 2.0//EN
METHOD:PUBLISH
X-PUBLISHED-TTL:P3D
REFRESH-INTERVAL:P3D
CALSCALE:GREGORIAN
BEGIN:VEVENT
DTSTART:20160308T150000Z
DTEND:20160308T210000Z
X-MICROSOFT-CDO-ALLDAYEVENT:FALSE
SUMMARY:Greater Birmingham Area Government Business Matchmaker - 2016
DESCRIPTION:This is a great opportunity for small businesses who are seeking opportunities to meet (by appointments) multiple government buyers in one day. We have 35 buyers including federal prime contractors\, federal contracting offices\, state agencies\, and local buyers as well. To learn more about this event and to register\, just go to: http://al-ptac.org/matchmakerBHM/
X-ALT-DESC;FMTTYPE=text/html:This is a great opportunity for small businesses who are seeking opportunities to meet (by appointments) multiple government buyers in one day. We have 35 buyers including federal prime contractors\, federal contracting offices\, state agencies\, and local buyers as well. To learn more about this event and to register\, just go to: http://al-ptac.org/matchmakerBHM/
LOCATION:Sheraton Hotel\, Birmingham
UID:e.145.8357
SEQUENCE:3
DTSTAMP:20260422T075127Z
URL:https://business.shelbychamber.org/events/details/greater-birmingham-area-government-business-matchmaker-2016-03-08-2016-8357
END:VEVENT

END:VCALENDAR
