BEGIN:VCALENDAR
VERSION:2.0
PRODID:-//ChamberMaster//Event Calendar 2.0//EN
METHOD:PUBLISH
X-PUBLISHED-TTL:P3D
REFRESH-INTERVAL:P3D
CALSCALE:GREGORIAN
BEGIN:VEVENT
DTSTART:20140430T160000Z
DTEND:20140430T180000Z
X-MICROSOFT-CDO-ALLDAYEVENT:FALSE
SUMMARY:Greater Shelby Chamber ~ 2013-2014 Student & Educator of the Year Luncheon
DESCRIPTION:Greater Shelby County Chamber of Commerce's 2013-2014 Student & Educator of the Year to be Recognized at April Membership Luncheon\n\n\n\nThe Greater Shelby County Chamber of Commerce is pleased to announce the creation of its Educator of the Year recognition program.  Educators play a vital role in the lives of Shelby County children\, impact our communities every day and help develop the workforce which our Shelby County businesses and organizations will need in the years ahead.  As such\, the Chamber is launching this recognition program to celebrate excellence in the teaching profession and inform our community of the exceptional quality of instruction delivered throughout Shelby County. All nominees will be recognized and two recipients (elementary and secondary educator) will receive a one-time financial investment to assist their continuing development.\n\n\n\nAlso\, the Chamber is pleased to announce the creation of its Student of the Year recognition program.  Shelby County students are our potential business and community leaders and will comprise a significant portion of our workforce in the future.  As such\, the Chamber is launching this recognition program to celebrate student excellence in the classroom throughout Shelby County. All nominees will be recognized and two recipients (college track and career track student) will receive a one-time financial investment to assist their continuing development.\n\n\n\nThe Chamber will recognize all of nominations and announce the recipients at the April 30 membership luncheon which is sponsored by America's First Federal Credit Union. All Students and Educators were nominated by their principal. If you have any questions please contact Keyla Handley at keyla@shelbychamber.org or 663-4542.\n\n\n\nThe luncheon will be held from 11:00AM until 1:00PM on April 30 at the Pelham Civic Complex and Ice Arena\, 500 Amphitheater Road\, Pelham. Investment is $20 members\, $30 "Future" members.  RSVP is required by noon Monday\, April 28.  Register by calling the Chamber at 663-4542 or click the Register Online button above.
X-ALT-DESC;FMTTYPE=text/html:<strong>Greater Shelby County Chamber of Commerce&rsquo\;s 2013-2014 Student &amp\; Educator of the Year to be Recognized at April Membership Luncheon</strong><br />\n<br />\nThe Greater Shelby County Chamber of Commerce is pleased to announce the creation of its Educator of the Year recognition program.&nbsp\; Educators play a vital role in the lives of Shelby County children\, impact our communities every day and help develop the workforce which our Shelby County businesses and organizations will need in the years ahead.&nbsp\; As such\, the Chamber is launching this recognition program to celebrate excellence in the teaching profession and inform our community of the exceptional quality of instruction delivered throughout Shelby County. All nominees will be recognized and two recipients (elementary and secondary educator) will receive a one-time financial investment to assist their continuing development.<br />\n<br />\nAlso\, the Chamber is pleased to announce the creation of its Student of the Year recognition program.&nbsp\; Shelby County students are our potential business and community leaders and will comprise a significant portion of our workforce in the future.&nbsp\; As such\, the Chamber is launching this recognition program to celebrate student excellence in the classroom throughout Shelby County. All nominees will be recognized and two recipients (college track and career track student) will receive a one-time financial investment to assist their continuing development.<br />\n<br />\nThe Chamber will recognize all of nominations and announce the recipients at the April 30 membership luncheon which is sponsored by <a href="https://www.amfirst.org/">America&#39\;s First Federal Credit Union</a>. All Students and Educators were nominated by their principal. If you have any questions please contact Keyla Handley at keyla@shelbychamber.org or 663-4542.<br />\n<br />\nThe luncheon will be held from 11:00AM until 1:00PM on April 30 at the Pelham Civic Complex and Ice Arena\, 500 Amphitheater Road\, Pelham. Investment is $20 members\, $30 &quot\;Future&quot\; members.&nbsp\; RSVP is required by noon Monday\, April 28.&nbsp\; Register by calling the Chamber at 663-4542 or click the Register Online button above.
LOCATION:Pelham Civic Complex and Ice Arena 500 Amphitheater Road\, Pelham AL 35124
UID:e.145.5325
SEQUENCE:3
DTSTAMP:20260423T201540Z
URL:https://business.shelbychamber.org/events/details/greater-shelby-chamber-2013-2014-student-educator-of-the-year-luncheon-04-30-2014-5325
END:VEVENT

END:VCALENDAR
