BEGIN:VCALENDAR
VERSION:2.0
PRODID:-//ChamberMaster//Event Calendar 2.0//EN
METHOD:PUBLISH
X-PUBLISHED-TTL:P3D
REFRESH-INTERVAL:P3D
CALSCALE:GREGORIAN
BEGIN:VEVENT
DTSTART:20150217T173000Z
DTEND:20150217T190000Z
X-MICROSOFT-CDO-ALLDAYEVENT:FALSE
SUMMARY:Greater Shelby Chamber - "2015 Alabama State Legislative Preview"
DESCRIPTION:Greater Shelby Chamber - "2015 Alabama State Legislative Preview"\n\n\n\nWith the Alabama State Legislature reconvening in March\, the Chamber's Governmental Affairs Work Group invites you to join members of our local Shelby County state legislative delegation for an informative luncheon meeting to hear their thoughts and perspective on the issues which our State Senate and State House of Representatives will be discussing and debating.\n\n\n\nThe event\, sponsored by Sain Associates\, Inc.\, will be held at Jefferson State Community College (Shelby Campus)\, Health Science Building -- Meeting Rooms A\, B & C -- 4600 Valleydale Road\, Birmingham\, AL 35242.\n\n\n\nShelbyOne Investors receive one complimentary ticket.
X-ALT-DESC;FMTTYPE=text/html:<strong>Greater Shelby Chamber - &quot\;2015 Alabama State Legislative Preview&quot\;</strong><br />\n<br />\nWith the Alabama State Legislature reconvening in March\, the Chamber&#39\;s Governmental Affairs Work Group invites you to join members of our local Shelby County state legislative delegation for an informative luncheon meeting to hear their thoughts and perspective on the issues which our State Senate and State House of Representatives will be discussing and debating.<br />\n<br />\n<span style="font-family:arial\;"><span style="font-size: 12px\;">The event\, sponsored by Sain Associates\, Inc.\, will be held at Jefferson State Community College (Shelby Campus)\, </span></span>Health Science Building -- Meeting Rooms A\, B &amp\; C -- 4600 Valleydale Road\, Birmingham\, AL 35242<span style="font-family:arial\;"><span style="font-size: 12px\;">.<br />\n<br />\n<a href="http://shelbychamber.org/about-us/shelbyone/"><strong>ShelbyOne</strong></a> Investors receive one complimentary ticket.</span></span>
LOCATION:Jefferson State Community College Health Science Building\, Meeting Rooms A\, B & C 4600 Valleydale Road Birmingham\, AL 35242
UID:e.145.7183
SEQUENCE:3
DTSTAMP:20260423T034620Z
URL:https://business.shelbychamber.org/events/details/greater-shelby-chamber-2015-alabama-state-legislative-preview-02-17-2015-7183
END:VEVENT

END:VCALENDAR
