BEGIN:VCALENDAR
VERSION:2.0
PRODID:-//ChamberMaster//Event Calendar 2.0//EN
METHOD:PUBLISH
X-PUBLISHED-TTL:P3D
REFRESH-INTERVAL:P3D
CALSCALE:GREGORIAN
BEGIN:VEVENT
DTSTART:20160831T140000Z
DTEND:20160831T200000Z
X-MICROSOFT-CDO-ALLDAYEVENT:FALSE
SUMMARY:Greater Shelby Chamber - 2nd Annual Healthy Lifestyles Expo
DESCRIPTION:You're Invited to Attend the 2nd Annual Healthy Lifestyle Expo on August 31\n \n\nThe Chamber's Health Services Work Group is hosting its second Healthy Lifestyles Expo on August 31! The event\, presented by St. Vincent's Health System and co-sponsored by HEALTHSOUTH Lakeshore Rehabilitation Hospital and Shelby Baptist Medical Center\, is designed to promote the importance of good health\, wellness and education for Shelby County residents and businesses. Join us and enrich your health and strengthen our community!\n\n \n\n\n	 \n	Healthy Lifestyle Expo morning session from 9:00AM   11:15AM\n	Break for intermission (Luncheon & Keynote speaker $20 investors\, $30 "Future" investors from 11:15AM - 1:15PM)\n	Healthy Lifestyle afternoon session from 1:15PM   3:00PM\n\n\nThe Healthy Lifestyle Expo will be held at the Pelham Civic Complex & Ice Arena\, 500 Amphitheater Drive\, Pelham.\n\n\n\nThe Expo is FREE and open to the public! There will be health screenings\, nutrition and expo booths to visit that will be full of tips\, techniques and more on making healthy lifestyle choices.\n\n \n\nIf you would like more details\, contact Keyla Handley\, Director\, Community & Investor Development at 663-4542\, ext. 106.
X-ALT-DESC;FMTTYPE=text/html:<div style="text-align: center\;"><br />\n<strong>You&#39\;re Invited to Attend the 2nd Annual Healthy Lifestyle Expo on August 31</strong></div>\n&nbsp\;\n\n<div>The Chamber&#39\;s Health Services Work Group is hosting its second Healthy Lifestyles Expo on August 31! The event\, presented by <a href="http://www.stvhs.com/">St. Vincent&rsquo\;s Health System</a>&nbsp\;and co-sponsored by <a href="http://healthsouthlakeshorerehab.com/">HEALTHSOUTH&nbsp\;Lakeshore Rehabilitation Hospital</a> and <a href="https://www.brookwoodbaptisthealth.com/">Shelby Baptist Medical Center</a>\,&nbsp\;is designed to promote the importance of good health\, wellness and education for Shelby County residents and businesses. Join us and enrich your health and strengthen our community!<br />\n&nbsp\;</div>\n\n<ul>\n	<li>&nbsp\;</li>\n	<li>Healthy Lifestyle Expo morning session from 9:00AM &ndash\; 11:15AM</li>\n	<li><span style="color: rgb(75\, 79\, 86)\; font-family: helvetica\, arial\, sans-serif\; line-height: 18.76px\;">Break for intermission (<a href="http://business.shelbychamber.org/Events/details/gscc-august-community-luncheon-2nd-annual-shelby-county-healthcare-professionals-of-the-year-9652">Luncheon &amp\; Keynote speaker</a> $20 investors\, $30 &quot\;Future&quot\; investors from 11:15AM - 1:15PM)</span></li>\n	<li>Healthy Lifestyle afternoon session from 1:15PM &ndash\; 3:00PM</li>\n</ul>\n\n<div>The Healthy Lifestyle Expo will be held at the Pelham Civic Complex &amp\; Ice Arena\, 500 Amphitheater Drive\, Pelham.<br />\n<br />\n<strong>The Expo is FREE and open to the public! </strong>There will be health screenings\, nutrition and expo booths to visit that will be full of tips\, techniques and more on making healthy lifestyle choices.<br />\n&nbsp\;<br />\nIf you would like more details\, contact Keyla Handley\, Director\, Community &amp\; Investor Development at 663-4542\, ext. 106.</div>\n
LOCATION:Pelham Civic Complex & Ice Arena 500 Amphitheater Drive\, Pelham
UID:e.145.9649
SEQUENCE:3
DTSTAMP:20260421T234944Z
URL:https://business.shelbychamber.org/events/details/greater-shelby-chamber-2nd-annual-healthy-lifestyles-expo-08-31-2016-9649
END:VEVENT

END:VCALENDAR
