BEGIN:VCALENDAR
VERSION:2.0
PRODID:-//ChamberMaster//Event Calendar 2.0//EN
METHOD:PUBLISH
X-PUBLISHED-TTL:P3D
REFRESH-INTERVAL:P3D
CALSCALE:GREGORIAN
BEGIN:VEVENT
DTSTART:20140224T170000Z
DTEND:20140224T190000Z
X-MICROSOFT-CDO-ALLDAYEVENT:FALSE
SUMMARY:Greater Shelby Chamber ~ 33rd Annual Meeting
DESCRIPTION:33rd Annual Meeting To Celebrate Chamber's Accomplishments \n\n\n\nThe Chamber's Annual Meeting Luncheon co-sponsored by Shelby County Newspapers and Shelby Baptist Medical Center is scheduled for Monday\, February 24 and will celebrate the past year's accomplishments under Chamber Chair David Nolen's leadership and kick-off the new year of programs and activities under 2014 Chamber Chair Bill Keller's leadership.\n\n\n\nTickets for the Annual Meeting are available for $20 per person for Chamber members ($30 for Future Members).  There are also a limited number of reserved Chairman's\, Platinum+\, Platinum\, Gold\, Silver and Corporate tables for 8 remaining for our 2014 Continual Sponsorship Program participants. These reserved seating options come with various benefits in addition to the reserved seating. Visit the Chamber home page at www.shelbychamber.org and click on 2014 Continual Sponsorship Program for more details.\n\n\n\nThe Chamber's 2013 Annual Report listing the Chamber's accomplishments for the past year will be provided to all attendees\, and the 2014 Business Plan will be presented. The event will be held at the Pelham Civic Complex and Ice Arena\, 500 Amphitheater Road\, Pelham\, with doors opening at 11:00AM and the program beginning at 11:30AM.\n\n\n\nFor more information\, or to make a reservation\, please contact the Chamber at info@shelbychamber.org or by telephone at 663-4542 or use the Register Online button above.
X-ALT-DESC;FMTTYPE=text/html:<font size="-1"><font face="Arial"><b>33rd Annual Meeting To Celebrate Chamber&#39\;s Accomplishments </b><br />\n<br />\nThe Chamber&#39\;s Annual Meeting Luncheon co-sponsored by Shelby County Newspapers and Shelby Baptist Medical Center is scheduled for Monday\, February 24 and will celebrate the past year&#39\;s accomplishments under Chamber Chair David Nolen&#39\;s leadership and kick-off the new year of programs and activities under 2014 Chamber Chair Bill Keller&#39\;s leadership.<br />\n<br />\nTickets for the Annual Meeting are available for $20 per person for Chamber members ($30 for Future Members).&nbsp\; There are also a limited number of reserved Chairman&#39\;s\, Platinum+\, Platinum\, Gold\, Silver and Corporate tables for 8 remaining for our 2014 Continual Sponsorship Program participants. These reserved seating options come with various benefits in addition to the reserved seating. Visit the Chamber home page at <a href="http://www.shelbychamber.org/GSCHome.asp?ID=2">www.shelbychamber.org</a> and click on <a href="http://cloud.chambermaster.com/userfiles/UserFiles/chambers/145/File/CSP_2014/GreaterShelbyChamber2014CSPOpportunities.pdf">2014 Continual Sponsorship Program</a> for more details.<br />\n<br />\nThe Chamber&#39\;s 2013 Annual Report listing the Chamber&#39\;s accomplishments for the past year will be provided to all attendees\, and the 2014 Business Plan will be presented. The event will be held at the Pelham Civic Complex and Ice Arena\, 500 Amphitheater Road\, Pelham\, with doors opening at 11:00AM and the program beginning at 11:30AM.<br />\n<br />\nFor more information\, or to make a reservation\, please contact the Chamber at info@shelbychamber.org or by telephone at 663-4542 or use the Register Online button above.</font></font>
LOCATION:Pelham Civic Complex and Ice Arena 500 Amphitheater Road Pelham\, AL 35124
UID:e.145.4960
SEQUENCE:3
DTSTAMP:20260423T213328Z
URL:https://business.shelbychamber.org/events/details/greater-shelby-chamber-33rd-annual-meeting-02-24-2014-4960
END:VEVENT

END:VCALENDAR
