BEGIN:VCALENDAR
VERSION:2.0
PRODID:-//ChamberMaster//Event Calendar 2.0//EN
METHOD:PUBLISH
X-PUBLISHED-TTL:P3D
REFRESH-INTERVAL:P3D
CALSCALE:GREGORIAN
BEGIN:VEVENT
DTSTART:20141203T133000Z
DTEND:20141203T210000Z
X-MICROSOFT-CDO-ALLDAYEVENT:FALSE
SUMMARY:Greater Shelby Chamber - Ambassador Program
DESCRIPTION:
X-ALT-DESC;FMTTYPE=text/html:
LOCATION:Thompson High School 100 Warrior Drive Alabaster\, AL 35007
UID:e.145.6625
SEQUENCE:3
DTSTAMP:20260423T063044Z
URL:https://business.shelbychamber.org/events/details/greater-shelby-chamber-ambassador-program-12-03-2014-6625
END:VEVENT

END:VCALENDAR
