BEGIN:VCALENDAR
VERSION:2.0
PRODID:-//ChamberMaster//Event Calendar 2.0//EN
METHOD:PUBLISH
X-PUBLISHED-TTL:P3D
REFRESH-INTERVAL:P3D
CALSCALE:GREGORIAN
BEGIN:VEVENT
DTSTART:20160907T163000Z
DTEND:20160907T180000Z
X-MICROSOFT-CDO-ALLDAYEVENT:FALSE
SUMMARY:Greater Shelby Chamber - Ambassador Work Group
DESCRIPTION:Greater Shelby Chamber Ambassadors Work Group\n\n\n\nThe Ambassadors meet the first Wednesday of each month* at the Chamber office in an effort to stay up to date on Chamber programs and happenings to assist fellow Chamber members.  Thank you to NobleBank & Trust for sponsoring the 2016 Ambassador Work Group.\n\n\n\nThis is an Ambassadors only meeting.\n\n\n\nIf you are interested in being part of the Ambassador Work Group please contact Keyla Handley\, Director\, Community & Investor Development at 663-4542\, ext. 106.\n\n\n\n*Meeting date\, time and location subject to change per Work Group.
X-ALT-DESC;FMTTYPE=text/html:<br />\n<strong>Greater Shelby Chamber Ambassadors Work Group</strong><br />\n<br />\nThe Ambassadors meet the first Wednesday of each month* at the Chamber office in an effort to stay up to date on Chamber programs and happenings to assist fellow Chamber members.&nbsp\; Thank you to NobleBank &amp\; Trust for sponsoring the 2016 Ambassador Work Group.<br />\n<br />\nThis is an Ambassadors only meeting.<br />\n<br />\nIf you are interested in being part of the Ambassador Work Group please contact Keyla Handley\, Director\, Community &amp\; Investor Development at 663-4542\, ext. 106.<br />\n<br />\n*Meeting date\, time and location subject to change per Work Group.
LOCATION:Greater Shelby Chamber Office 1301 County Services Drive Pelham\, AL 35124 663-4542
UID:e.145.9449
SEQUENCE:3
DTSTAMP:20260421T183211Z
URL:https://business.shelbychamber.org/events/details/greater-shelby-chamber-ambassador-work-group-09-07-2016-9449
END:VEVENT

END:VCALENDAR
