BEGIN:VCALENDAR
VERSION:2.0
PRODID:-//ChamberMaster//Event Calendar 2.0//EN
METHOD:PUBLISH
X-PUBLISHED-TTL:P3D
REFRESH-INTERVAL:P3D
CALSCALE:GREGORIAN
BEGIN:VEVENT
DTSTART:20150304T173000Z
DTEND:20150304T190000Z
X-MICROSOFT-CDO-ALLDAYEVENT:FALSE
SUMMARY:Greater Shelby Chamber - Ambassadors Meeting
DESCRIPTION:Greater Shelby Chamber Ambassadors Meeting\n\n\n\nThe Ambassadors meet the first Wednesday of each month at the Chamber office in an effort to stay up to date on Chamber programs and happenings to assist fellow Chamber members.  Thank you to the YMCA Alabaster for sponsoring the 2015 Ambassador Program.\n\n\n\nThis is an Ambassadors only meeting.\n\n\n\nIf you are interested in being part of the Ambassador Program please contact Aubri McClendon at 663-4542\, ext. 105.
X-ALT-DESC;FMTTYPE=text/html:<strong>Greater Shelby Chamber Ambassadors Meeting</strong><br />\n<br />\nThe Ambassadors meet the first Wednesday of each month at the Chamber office in an effort to stay up to date on Chamber programs and happenings to assist fellow Chamber members.&nbsp\; Thank you to the YMCA Alabaster for sponsoring the 2015 Ambassador Program.<br />\n<br />\nThis is an Ambassadors only meeting.<br />\n<br />\nIf you are interested in being part of the Ambassador Program please contact Aubri McClendon at 663-4542\, ext. 105.
LOCATION:Greater Shelby Chamber Office 1301 County Services Drive Pelham\, AL 35124 663-4542
UID:e.145.7572
SEQUENCE:3
DTSTAMP:20260423T034026Z
URL:https://business.shelbychamber.org/events/details/greater-shelby-chamber-ambassadors-meeting-03-04-2015-7572
END:VEVENT

END:VCALENDAR
