BEGIN:VCALENDAR
VERSION:2.0
PRODID:-//ChamberMaster//Event Calendar 2.0//EN
METHOD:PUBLISH
X-PUBLISHED-TTL:P3D
REFRESH-INTERVAL:P3D
CALSCALE:GREGORIAN
BEGIN:VEVENT
DTSTART:20110510T160000Z
DTEND:20110510T220000Z
X-MICROSOFT-CDO-ALLDAYEVENT:FALSE
SUMMARY:Greater Shelby Chamber ~ Annual Golf Classic at Timberline Golf Club
DESCRIPTION:Greater Shelby Chamber 22nd Annual Golf Classic\n\n	 \n\n	Register your team today for the premiere golf tournament of the year!  Our players\, sponsors\, and volunteers all walk away a winner. We are fortunate to have established a reputation for having a superior golf tournament that offers friendly competition\, lots of prizes\, and fun for all.\n\n	\n\n	This year the tournament will be held on May 10\, 2011 at Timberline Golf Club\, 300 Timberline Trail\, Calera.\n\n	\n\n	11 am lunch is served and driving range is open.\n\n	\n\n	12:30 Shotgun Start (reception after round).\n\n	 \n\n	Entry Fee: $600 per team or $150 per person. Includes: Course and cart fee\, two meals\, two drink tickets per person\, one mulligan and one power drive per person\, all contests.\n\n	\n\n	Format: Four person scramble with chances to win flighted divisions\, along with longest drive\, closest to the hole\, putting contest and many other prizes.\n\n	\n\n	You may register your team by using "Register Online" above and adding each player as an addditional attendee.  Each player will show a cost of $150 for a total of $600 per team.\n\n	\n\n	If you are a participant in the Continual Sponsorship Program please contact the Chamber and we will register your team for you.  If you would like to be a Continual Sponsor or are interested in sponsorships available at the tournament call the Chamber: 663-4542.\n\n	\n\n	\n		Golf Team (four players) + Tee / Green Sponsorship (two representatives) = $750\n	\n		 \n	\n		Golf Team Only (four players) = $600\n	\n		 \n	\n		Individual Player = $150\n	\n		 \n	\n		2011 Annual Golf Classic Sponsorships Available:  (All sponsorships are first-come\, first-served basis.)\n	\n		 \n	\n		Award Ceremony - multiple available\n	\n		Tournament Cart Sponsor - one available\n	\n		Longest Drive Contest Sponsor - one available\n	\n		Putting Contest - one available\n	\n		Hole in One Contest Sponsors - two available\n	\n		Closest to the Pin Sponsor - one available\n	\n		Straightest Drive Sponsor - one available\n\n		Longest Drive Sponsor - one available\n	\n		Tee Sponsors - multiple available\n\n		Green Sponsors - multiple available\n\n		\n\n		Click here for all forms related to the 22nd Annual Golf Classic\n\n		\n\n		2011 Golf Registration Form\n\n		\n\n		2011 Golf Sponsorship Opportunities\n\n		\n\n		2011 Golf Donation Acknowledgement Form\n\n		\n\n		2011 Continual Sponsorship Program
X-ALT-DESC;FMTTYPE=text/html:<div>\n	<strong>Greater Shelby Chamber 22nd Annual Golf Classic</strong><br />\n	&nbsp\;</div>\n<div>\n	Register your team today for the premiere golf tournament of the year!&nbsp\; Our players\, sponsors\, and volunteers all walk away a winner. We are fortunate to have established a reputation for having a superior golf tournament that offers friendly competition\, lots of prizes\, and fun for all.<br />\n	<br />\n	This year the tournament will be held on May 10\, 2011 at <a href="http://www.timberlinegc.com/golf/proto/timberlinegc/">Timberline Golf Club</a>\, 300 Timberline Trail\, Calera.</div>\n<div>\n	<br />\n	11 am lunch is served and driving range is open.</div>\n<div>\n	<br />\n	12:30 Shotgun Start (reception after round).<br />\n	&nbsp\;</div>\n<div>\n	<u><strong>Entry Fee</strong></u>: $600 per team or $150 per person. Includes: Course and cart fee\, two meals\, two drink tickets per person\, one mulligan and one power drive per person\, all contests.<br />\n	<br />\n	<u><strong>Format</strong></u>: Four person scramble with chances to win flighted divisions\, along with longest drive\, closest to the hole\, putting contest and many other prizes.<br />\n	<br />\n	You may register your team by using &quot\;Register Online&quot\; above and adding each player as an addditional attendee.&nbsp\; Each player will show a cost of $150 for a total of $600 per team.<br />\n	<br />\n	<em><strong>If you are a participant in the Continual Sponsorship Program please contact the Chamber and we will register your team for you.&nbsp\; If you would like to be a Continual Sponsor or are interested in sponsorships available at the tournament call the Chamber: 663-4542.</strong></em><br />\n	<br />\n	<div>\n		Golf Team (four players)&nbsp\;+ Tee / Green Sponsorship (two representatives) = $750</div>\n	<div>\n		&nbsp\;</div>\n	<div>\n		Golf Team Only (four players)&nbsp\;= $600</div>\n	<div>\n		&nbsp\;</div>\n	<div>\n		Individual Player = $150</div>\n	<div>\n		&nbsp\;</div>\n	<div>\n		2011 Annual Golf Classic Sponsorships Available:&nbsp\; (All sponsorships are first-come\, first-served basis.)</div>\n	<div>\n		&nbsp\;</div>\n	<div>\n		Award Ceremony - multiple available</div>\n	<div>\n		Tournament Cart Sponsor - one available</div>\n	<div>\n		Longest Drive Contest Sponsor - one available</div>\n	<div>\n		Putting Contest - one available</div>\n	<div>\n		Hole in One Contest Sponsors - two available</div>\n	<div>\n		Closest to the Pin Sponsor - one available</div>\n	<div>\n		Straightest Drive Sponsor - one available<br />\n		Longest Drive Sponsor - one available</div>\n	<div>\n		Tee Sponsors - multiple available<br />\n		Green Sponsors - multiple available<br />\n		<br />\n		<strong>Click here for all forms related to the 22nd Annual Golf Classic</strong><br />\n		<br />\n		<a href="http://cloud.chambermaster.com/userfiles/UserFiles/chambers/145/File/Golf/2011%20GSC%20Golf%20Registration.pdf" title="http://cloud.chambermaster.com/userfiles/UserFiles/chambers/145/File/Golf/2011%20GSC%20Golf%20Registration.pdf">2011 Golf Registration Form</a><br />\n		<br />\n		<a href="http://cloud.chambermaster.com/userfiles/UserFiles/chambers/145/File/Golf/2011%20Golf%20Sponsorship%20Opportunities.pdf">2011 Golf Sponsorship Opportunities</a><br />\n		<br />\n		<a href="http://cloud.chambermaster.com/userfiles/UserFiles/chambers/145/File/Golf/2011%20Golf%20Donation%20Letter.pdf" title="http://cloud.chambermaster.com/userfiles/UserFiles/chambers/145/File/Golf/2011%20Golf%20Donation%20Letter.pdf">2011 Golf Donation Acknowledgement Form</a><br />\n		<br />\n		<a href="http://cloud.chambermaster.com/userfiles/UserFiles/chambers/145/File/Golf/2011%20GSC%20Continual%20Sponsorship%20Program.pdf">2011 Continual Sponsorship Program</a></div>\n</div>\n
LOCATION:Timberline Golf Club 300 Timberline Trail Calera\, AL 35040 (205) 668-7888
UID:e.145.3249
SEQUENCE:3
DTSTAMP:20260426T034057Z
URL:https://business.shelbychamber.org/events/details/greater-shelby-chamber-annual-golf-classic-at-timberline-golf-club-05-10-2011-3249
END:VEVENT

END:VCALENDAR
