BEGIN:VCALENDAR
VERSION:2.0
PRODID:-//ChamberMaster//Event Calendar 2.0//EN
METHOD:PUBLISH
X-PUBLISHED-TTL:P3D
REFRESH-INTERVAL:P3D
CALSCALE:GREGORIAN
BEGIN:VEVENT
DTSTART:20120229T170000Z
DTEND:20120229T190000Z
X-MICROSOFT-CDO-ALLDAYEVENT:FALSE
SUMMARY:Greater Shelby Chamber ~ Annual Mayoral Address
DESCRIPTION:The mayors from Shelby County municipalities will come together at the Greater Shelby Chamber's luncheon to speak about accomplishments and plans for their cities. This is a time for the business community to learn more about the successes and challenges of individual municipalities\, while gaining insight into what makes Shelby County a great place to live and work.\n\n\n\nThe luncheon\, sponsored by the Shelby County Reporter\, is February 29th at the Pelham Civic Complex.\n\n\n\nNetworking with the Showcase Feature being non-profits and community service organizations serving Shelby County and the surrounding areas\, will begin at 11 am with the seated program beginning at noon.\n\n\n\nInvestment is $17 for Greater Shelby Chamber members and $25 for guests. Register online above or call 663-4542. Deadline to register is noon on Monday\, February 27th. Early reservations are recommended as seating is limited and expected to reach full capacity.
X-ALT-DESC;FMTTYPE=text/html:The mayors from Shelby County municipalities will come together at the Greater Shelby Chamber&#39\;s luncheon to speak about accomplishments and plans for their cities. This is a time for the business community to learn more about the successes and challenges of individual municipalities\, while gaining insight into what makes Shelby County a great place to live and work.<br />\n<br />\nThe luncheon\, sponsored by the <a href="http://www.shelbycountyreporter.com/">Shelby County Reporter</a>\, is February 29th at the Pelham Civic Complex.<br />\n<br />\nNetworking with the Showcase Feature being non-profits and community service organizations serving Shelby County and the surrounding areas\, will begin at 11 am with the seated program beginning at noon.<br />\n<br />\nInvestment is $17 for Greater Shelby Chamber members and $25 for guests. Register online above or call 663-4542. Deadline to register is noon on Monday\, February 27th. <em><strong>Early reservations are recommended as seating is limited and expected to reach full capacity.</strong></em>
LOCATION:Pelham Civic Complex\, 500 Amphitheater Drive\, Pelham
UID:e.145.3926
SEQUENCE:3
DTSTAMP:20260425T120039Z
URL:https://business.shelbychamber.org/events/details/greater-shelby-chamber-annual-mayoral-address-02-29-2012-3926
END:VEVENT

END:VCALENDAR
