BEGIN:VCALENDAR
VERSION:2.0
PRODID:-//ChamberMaster//Event Calendar 2.0//EN
METHOD:PUBLISH
X-PUBLISHED-TTL:P3D
REFRESH-INTERVAL:P3D
CALSCALE:GREGORIAN
BEGIN:VEVENT
DTSTART:20120125T170000Z
DTEND:20120125T190000Z
X-MICROSOFT-CDO-ALLDAYEVENT:FALSE
SUMMARY:Greater Shelby Chamber ~ Annual Meeting Membership Luncheon
DESCRIPTION:The Greater Shelby County Chamber of Commerce will hold its Annual Meeting on January 25th at the Pelham Civic Complex. Highlights about the upcoming 2012 events and programs will be featured. Networking begins at 11am and the seated program beginning at noon and concluding at 1 pm.\n\n\n\nInvestment is $17 for Greater Shelby Chamber members and $25 for all others.\n\n\n\nRegister online by clicking above and using your member login and password to receive the member rate!\n\n\n\n*Notice:  If you make a reservation for the luncheon and are unable to attend you must cancel at least TWO days prior to the luncheon to avoid being charged.
X-ALT-DESC;FMTTYPE=text/html:The Greater Shelby County Chamber of Commerce will hold its Annual Meeting on January 25th at the Pelham Civic Complex. Highlights about the upcoming 2012 events and programs will be featured. Networking begins at 11am and the seated program beginning at noon and concluding at 1 pm.<br />\n<br />\nInvestment is $17 for Greater Shelby Chamber members and $25 for all others.<br />\n<br />\nRegister online by clicking above and using your member login and password to receive the member rate!<br />\n<br />\n*<u><strong>Notice</strong></u><strong>:&nbsp\; If you make a reservation for the luncheon and are unable to attend you must cancel at least TWO days prior to the luncheon to avoid being charged.</strong>
LOCATION:Pelham Civic Complex 500 Amphitheater Road\, Pelham AL 35124 (205) 620-6448
UID:e.145.3633
SEQUENCE:3
DTSTAMP:20260425T153355Z
URL:https://business.shelbychamber.org/events/details/greater-shelby-chamber-annual-meeting-membership-luncheon-01-25-2012-3633
END:VEVENT

END:VCALENDAR
