BEGIN:VCALENDAR
VERSION:2.0
PRODID:-//ChamberMaster//Event Calendar 2.0//EN
METHOD:PUBLISH
X-PUBLISHED-TTL:P3D
REFRESH-INTERVAL:P3D
CALSCALE:GREGORIAN
BEGIN:VEVENT
DTSTART:20120427T160000Z
DTEND:20120427T180000Z
X-MICROSOFT-CDO-ALLDAYEVENT:FALSE
SUMMARY:Greater Shelby Chamber ~ Annual Membership Picnic
DESCRIPTION:Make plans to join us this month for the Annual Picnic in the Park!  The Annual Membership Picnic in the Park is scheduled for Friday\, April 27th\, from 11 a.m. until 1 p.m. at Alabaster Senior Center\, 1097 - 7th Street S.W.\, Alabaster.  The event has been planned with tons of fun\, amusing games\, and musical entertainment! And we'll have delicious delights cooking on the grill plus all the fixings!\n\n	\n\n	Get a little casual\, come on out\, and be prepared to have some fun in the sun\, and the shade\, and have a blast with the Chamber staff\, board members\, and your fellow Chamber member family!  This event is sure to make you laugh\, giggle\, be a little competitive\, and enjoy the fellowship of the day!\n\n	\n\n	RSVP required by midnight\, Thursday\, April 26th!\n\n	Investment:  $17 for members of the Greater Shelby Chamber\, $25 for non-members.\n\n	\n\n	Thank you to the City of Alabaster for hosting our annual picnic this year!
X-ALT-DESC;FMTTYPE=text/html:<div>\n	Make plans to join us this month for the Annual Picnic in the Park!&nbsp\; The Annual Membership Picnic in the Park is scheduled for Friday\, April 27th\, from 11 a.m. until 1 p.m. at <a href="http://www.cityofalabaster.com/senior-adults/sp/331">Alabaster Senior Center\, 1097 - 7th Street S.W.\, Alabaster</a>.&nbsp\; The event has been planned with tons of fun\, amusing games\, and musical entertainment! And we&rsquo\;ll have delicious delights cooking on the grill plus all the fixings!<br />\n	<br />\n	Get a little casual\, come on out\, and be prepared to have some fun in the sun\, and the shade\, and have a blast with the Chamber staff\, board members\, and your fellow Chamber member family!&nbsp\; This event is sure to make you laugh\, giggle\, be a little competitive\, and enjoy the fellowship of the day!<br />\n	<br />\n	<strong>RSVP required</strong> by midnight\, Thursday\, April 26th!</div>\n<div>\n	<strong>Investment</strong>:&nbsp\; $17 for members of the Greater Shelby Chamber\, $25 for non-members.<br />\n	<br />\n	Thank you to the City of Alabaster for hosting our annual picnic this year!<br />\n	<br />\n	&nbsp\;</div>\n
LOCATION:Alabaster Senior Center\, 1097 - 7th Street S.W.\, Alabaster. Click here for directions to the Alabaster Senior Center.
UID:e.145.3982
SEQUENCE:3
DTSTAMP:20260425T102109Z
URL:https://business.shelbychamber.org/events/details/greater-shelby-chamber-annual-membership-picnic-04-27-2012-3982
END:VEVENT

END:VCALENDAR
