BEGIN:VCALENDAR
VERSION:2.0
PRODID:-//ChamberMaster//Event Calendar 2.0//EN
METHOD:PUBLISH
X-PUBLISHED-TTL:P3D
REFRESH-INTERVAL:P3D
CALSCALE:GREGORIAN
BEGIN:VEVENT
DTSTART:20121120T133000Z
DTEND:20121120T150000Z
X-MICROSOFT-CDO-ALLDAYEVENT:FALSE
SUMMARY:Greater Shelby Chamber ~ Annual Prayer Breakfast
DESCRIPTION:Greater Shelby County Chamber of Commerce Annual Prayer Breakfast\n\n\n\nThe Annual Prayer Breakfast is designed for members to come together to fellowship\, celebrate\, and give thanks for our many blessings. It's also a time to reflect on what's truly important in life and what inspires us to make a difference in the lives of others.\n\n\n\nJoin us in welcoming our keynote speaker\, Ward Williams\, Executive Director at Vineyard Family Services (VFS).\n\n\n\nWhat is (VFS)?\n\n\n\nVFS works to decrease the effects of father absence by feeding kids in need\, promoting responsible fatherhood & aiding families in crisis.\n\n\n\nBackPack Buddies Program -- VFS Millions of children in the U.S. count on the free and reduced meals available at school to alleviate their hunger. During weekends and holidays\, The BackPack Buddies Program helps meet their needs by providing children ages 5-12 with nutritious and easy-to-prepare food that they can take home when other resources aren't always available.\n\n\n\nWith the help of many partners\, grants and community efforts and with the assistance of our local guidance counselors in the Shelby County School System\, our program targets children who may be "at risk" for food insecurity. We are now feeding over 200 children weekly but we have many more waiting to be helped. The smallest amount can make a huge difference!\n\n\n\nF.I.T. Dad Program -- The F.I.T. Dad Program is provided to noncustodial fathers in Shelby County but any father who wants to improve their parenting skills is welcome. This is a second chance for men to be successful fathers by supporting their families financially\, morally and emotionally. Besides providing a supportive and safe environment for men to become better dads\, our goal is to protect and improve children's lives through educating and helping their parents.\n\n\n\nCo-Parenting Plan -- A Co-Parenting Plan is a written plan formed by a mediator and the two parents involved. The goal is to arrive at a practical plan that benefits the well-being and care for the child or children concerned. A parenting workbook called\, " It Take Two for Your Child: A Workbook on Parenting Together" is issued which educates divorced or never married parents who are involved in cases mainly filed in the juvenile or family courts of the State\, to focus on their children.\n\n\n\nThe Prayer Breakfast is co-sponsored by Legacy Community Federal Credit Union and The Jimmie Hale Mission.\n\n\n\nThe Prayer Breakfast will be on Tuesday\, November 20th from 7:30 a.m. until 9 a.m. at the Pelham Civic Complex\, 500 Amphitheater Road\, Pelham.\n\n\n\nRSVP is required by noon\, Friday\, November 16th.\n\n\n\nGreater Shelby Chamber member reservations $17\, future-members $25.
X-ALT-DESC;FMTTYPE=text/html:<strong>Greater Shelby County Chamber of Commerce Annual Prayer Breakfast</strong><br />\n<br />\nThe Annual Prayer Breakfast is designed for members to come together to fellowship\, celebrate\, and give thanks for our many blessings. It&rsquo\;s also a time to reflect on what&rsquo\;s truly important in life and what inspires us to make a difference in the lives of others.<br />\n<br />\nJoin us in welcoming our keynote speaker\, Ward Williams\, Executive Director at <a href="http://www.vfsdads.com/">Vineyard Family Services (VFS)</a>.<br />\n<br />\n<strong><em>What is (VFS)?</em></strong><br />\n<br />\nVFS works to decrease the effects of father absence by feeding kids in need\, promoting responsible fatherhood &amp\; aiding families in crisis.<br />\n<br />\nBackPack Buddies Program -- VFS Millions of children in the U.S. count on the free and reduced meals available at school to alleviate their hunger. During weekends and holidays\, The BackPack Buddies Program helps meet their needs by providing children ages 5-12 with nutritious and easy-to-prepare food that they can take home when other resources aren&rsquo\;t always available.<br />\n<br />\nWith the help of many partners\, grants and community efforts and with the assistance of our local guidance counselors in the Shelby County School System\, our program targets children who may be &ldquo\;at risk&rdquo\; for food insecurity. We are now feeding over 200 children weekly but we have many more waiting to be helped. The smallest amount can make a huge difference!<br />\n<br />\nF.I.T. Dad Program -- The F.I.T. Dad Program is provided to noncustodial fathers in Shelby County but any father who wants to improve their parenting skills is welcome. This is a second chance for men to be successful fathers by supporting their families financially\, morally and emotionally. Besides providing a supportive and safe environment for men to become better dads\, our goal is to protect and improve children&rsquo\;s lives through educating and helping their parents.<br />\n<br />\nCo-Parenting Plan -- A Co-Parenting Plan is a written plan formed by a mediator and the two parents involved. The goal is to arrive at a practical plan that benefits the well-being and care for the child or children concerned. A parenting workbook called\, &ldquo\; It Take Two for Your Child: A Workbook on Parenting Together&rdquo\; is issued which educates divorced or never married parents who are involved in cases mainly filed in the juvenile or family courts of the State\, to focus on their children.<br />\n<br />\nThe Prayer Breakfast is co-sponsored by <a href="http://www.legacycreditunion.com/">Legacy Community Federal Credit Union</a> and <a href="http://www.jimmiehalemission.com/">The Jimmie Hale Mission</a>.<br />\n<br />\nThe Prayer Breakfast will be on Tuesday\, November 20th from 7:30 a.m. until 9 a.m. at the Pelham Civic Complex\, 500 Amphitheater Road\, Pelham.<br />\n<br />\nRSVP is required by noon\, Friday\, November 16th.<br />\n<br />\nGreater Shelby Chamber member reservations $17\, future-members $25.
LOCATION:Pelham Civic Complex\, 500 Amphitheater Road\, Pelham\, AL 35124
UID:e.145.4429
SEQUENCE:3
DTSTAMP:20260424T222003Z
URL:https://business.shelbychamber.org/events/details/greater-shelby-chamber-annual-prayer-breakfast-11-20-2012-4429
END:VEVENT

END:VCALENDAR
