BEGIN:VCALENDAR
VERSION:2.0
PRODID:-//ChamberMaster//Event Calendar 2.0//EN
METHOD:PUBLISH
X-PUBLISHED-TTL:P3D
REFRESH-INTERVAL:P3D
CALSCALE:GREGORIAN
BEGIN:VEVENT
DTSTART:20111122T133000Z
DTEND:20111122T150000Z
X-MICROSOFT-CDO-ALLDAYEVENT:FALSE
SUMMARY:Greater Shelby Chamber ~ Annual Prayer Breakfast
DESCRIPTION:Greater Shelby County Chamber of Commerce Annual Prayer Breakfast\n\n\n\nThe Annual Prayer Breakfast is designed for members to come together to fellowship\, celebrate\, and give thanks for our many blessings. It's also a time to reflect on what's truly important in life and what inspires us to make a difference in the lives of others.\n\n\n\nOur keynote speaker will be Justin Fisher\, author of the Christian devotional book "I Can't Even Walk\, Without You Holding My Hand" and an Economics instructor at Jefferson State Community College in Birmingham\, AL\, where in 2004 he received the Phi Theta Kappa Outstanding Faculty Member Award\, and in 2008 was nominated for the college's Outstanding Faculty Member Award. You will be inspired by his story.
X-ALT-DESC;FMTTYPE=text/html:<strong>Greater Shelby County Chamber of Commerce Annual Prayer Breakfast</strong><br />\n<br />\nThe Annual Prayer Breakfast is designed for members to come together to fellowship\, celebrate\, and give thanks for our many blessings. It&rsquo\;s also a time to reflect on what&rsquo\;s truly important in life and what inspires us to make a difference in the lives of others.<br />\n<br />\nOur keynote speaker will be Justin Fisher\, author of the Christian devotional book &quot\;<em>I Can&#39\;t Even Walk\, Without You Holding My Hand</em>&quot\; and an Economics instructor at Jefferson State Community College in Birmingham\, AL\, where in 2004 he received the Phi Theta Kappa Outstanding Faculty Member Award\, and in 2008 was nominated for the college&rsquo\;s Outstanding Faculty Member Award. You will be inspired by his story.
LOCATION:Pelham Civic Complex\, 500 Amphitheater Road\, Pelham\, AL 35124
UID:e.145.3543
SEQUENCE:3
DTSTAMP:20260425T170542Z
URL:https://business.shelbychamber.org/events/details/greater-shelby-chamber-annual-prayer-breakfast-11-22-2011-3543
END:VEVENT

END:VCALENDAR
