BEGIN:VCALENDAR
VERSION:2.0
PRODID:-//ChamberMaster//Event Calendar 2.0//EN
METHOD:PUBLISH
X-PUBLISHED-TTL:P3D
REFRESH-INTERVAL:P3D
CALSCALE:GREGORIAN
BEGIN:VEVENT
DTSTART:20141125T133000Z
DTEND:20141125T153000Z
X-MICROSOFT-CDO-ALLDAYEVENT:FALSE
SUMMARY:Greater Shelby Chamber - Annual Prayer Breakfast
DESCRIPTION:Greater Shelby Chamber's 17th Annual Prayer Breakfast Scheduled for November 25\n\n\n\nThe Greater Shelby Chamber will host its 17th Annual Prayer Breakfast on November 25.  The program\, co-sponsored by The Jimmie Hale Mission\, Legacy Community Federal Credit Union and Shelby Baptist Medical Center\, will feature a presentation by Tony Cooper\, Executive Director with The Jimmie Hale Mission.  Cooper\, who is marking his 25th anniversary with the Mission\, will share a presentation on "Steps to Success".  \n\n\n\n"This program allows the entire Shelby County community to come together for fellowship and to celebrate and give thanks for our many blessings\," Chamber President & CEO Kirk Mancer commented. "It's also a time to reflect on what's truly important in life and what inspires us to make a difference in the lives of others." Mancer continued.  "We're honored that Tony Cooper\, who has dedicated his life to helping people in need\, will be joining us and sharing his message in Shelby County.\n\n\n\nThe program will close with an overview by the project team of the Oak Mountain State Park Master Plan currently underway. For more information about the project visit http://planomsp.DiscoverShelby.com"\n\n\n\nThe cost to attend is $20 per person and includes a breakfast buffet.  To make reservations\, or for more information on the Prayer Breakfast please contact the Greater Shelby County Chamber by phone at 663-4542 or Register Online above.\n\n\n\nReservations are requested by noon on Friday\, November 21. Greater Shelby Chamber member reservations $20.\n\n\n\nThank you again to our Annual Prayer Breakfast sponsors: Legacy Community Federal Credit Union\, The Jimmie Hale Mission and Shelby Baptist Medical Center.
X-ALT-DESC;FMTTYPE=text/html:<strong>Greater Shelby Chamber&#39\;s 17th Annual Prayer Breakfast Scheduled for November 25</strong><br />\n<br />\nThe Greater Shelby Chamber will host its 17th Annual Prayer Breakfast on November 25.&nbsp\; The program\, co-sponsored by The Jimmie Hale Mission\, Legacy Community Federal Credit Union and Shelby Baptist Medical Center\, will feature a presentation by Tony Cooper\, Executive Director with The Jimmie Hale Mission.&nbsp\; Cooper\, who is marking his 25th anniversary with the Mission\, will share a presentation on &ldquo\;Steps to Success&rdquo\;. &nbsp\;<br />\n<br />\n&ldquo\;This program allows the entire Shelby County community to come together for fellowship and to celebrate and give thanks for our many blessings\,&rdquo\; Chamber President &amp\; CEO Kirk Mancer commented. &ldquo\;It&rsquo\;s also a time to reflect on what&rsquo\;s truly important in life and what inspires us to make a difference in the lives of others.&rdquo\; Mancer continued.&nbsp\; &ldquo\;We&rsquo\;re honored that Tony Cooper\, who has dedicated his life to helping people in need\, will be joining us and sharing his message in Shelby County.<br />\n<br />\nThe program will close with an overview by the project team of the Oak Mountain State Park Master Plan currently underway. For more information about the project visit http://planomsp.DiscoverShelby.com&rdquo\;<br />\n<br />\nThe cost to attend is $20 per person and includes a breakfast buffet.&nbsp\; To make reservations\, or for more information on the Prayer Breakfast please contact the Greater Shelby County Chamber by phone at 663-4542 or Register Online above.<br />\n<br />\nReservations are requested by noon on Friday\, November 21. Greater Shelby Chamber member reservations $20.<br />\n<br />\nThank you again to our Annual Prayer Breakfast sponsors: <a href="http://www.legacycreditunion.com/">Legacy Community Federal Credit Union</a>\, <a href="http://www.jimmiehalemission.com/">The Jimmie Hale Mission</a> and <a href="http://www.bhsala.com/">Shelby Baptist Medical Center</a>.
LOCATION:Pelham Civic Complex and Ice Arena 500 Amphitheater Road Pelham\, AL 35124
UID:e.145.6501
SEQUENCE:3
DTSTAMP:20260423T075411Z
URL:https://business.shelbychamber.org/events/details/greater-shelby-chamber-annual-prayer-breakfast-11-25-2014-6501
END:VEVENT

END:VCALENDAR
